BEGIN:VCALENDAR
VERSION:2.0
PRODID:-//The Children&#039;s School - ECPv6.15.15//NONSGML v1.0//EN
CALSCALE:GREGORIAN
METHOD:PUBLISH
X-ORIGINAL-URL:https://www.tcsatl.org
X-WR-CALDESC:Events for The Children&#039;s School
REFRESH-INTERVAL;VALUE=DURATION:PT1H
X-Robots-Tag:noindex
X-PUBLISHED-TTL:PT1H
BEGIN:VTIMEZONE
TZID:America/New_York
BEGIN:DAYLIGHT
TZOFFSETFROM:-0500
TZOFFSETTO:-0400
TZNAME:EDT
DTSTART:20220313T070000
END:DAYLIGHT
BEGIN:STANDARD
TZOFFSETFROM:-0400
TZOFFSETTO:-0500
TZNAME:EST
DTSTART:20221106T060000
END:STANDARD
BEGIN:DAYLIGHT
TZOFFSETFROM:-0500
TZOFFSETTO:-0400
TZNAME:EDT
DTSTART:20230312T070000
END:DAYLIGHT
BEGIN:STANDARD
TZOFFSETFROM:-0400
TZOFFSETTO:-0500
TZNAME:EST
DTSTART:20231105T060000
END:STANDARD
BEGIN:DAYLIGHT
TZOFFSETFROM:-0500
TZOFFSETTO:-0400
TZNAME:EDT
DTSTART:20240310T070000
END:DAYLIGHT
BEGIN:STANDARD
TZOFFSETFROM:-0400
TZOFFSETTO:-0500
TZNAME:EST
DTSTART:20241103T060000
END:STANDARD
END:VTIMEZONE
BEGIN:VEVENT
DTSTART;TZID=America/New_York:20230918T151500
DTEND;TZID=America/New_York:20230918T161500
DTSTAMP:20260421T163218
CREATED:20230809T164614Z
LAST-MODIFIED:20230830T010012Z
UID:10010215-1695050100-1695053700@www.tcsatl.org
SUMMARY:Bricks4Kidz
DESCRIPTION:
URL:https://www.tcsatl.org/event/bricks4kidz-25/
END:VEVENT
BEGIN:VEVENT
DTSTART;TZID=America/New_York:20230918T151500
DTEND;TZID=America/New_York:20230918T161500
DTSTAMP:20260421T163218
CREATED:20230831T010010Z
LAST-MODIFIED:20230913T010004Z
UID:10010550-1695050100-1695053700@www.tcsatl.org
SUMMARY:Bricks4Kidz
DESCRIPTION:
URL:https://www.tcsatl.org/event/bricks4kidz-41/
END:VEVENT
BEGIN:VEVENT
DTSTART;TZID=America/New_York:20230918T151500
DTEND;TZID=America/New_York:20230918T163000
DTSTAMP:20260421T163218
CREATED:20230809T164614Z
LAST-MODIFIED:20230913T010004Z
UID:10010216-1695050100-1695054600@www.tcsatl.org
SUMMARY:TCS Players (6-8th Grade)
DESCRIPTION:Carpool 4:30-4:45 PM
URL:https://www.tcsatl.org/event/tcs-players-6-8th-grade-4/
END:VEVENT
BEGIN:VEVENT
DTSTART;TZID=America/New_York:20230918T154500
DTEND;TZID=America/New_York:20230918T164500
DTSTAMP:20260421T163218
CREATED:20230809T164614Z
LAST-MODIFIED:20230913T010004Z
UID:10010214-1695051900-1695055500@www.tcsatl.org
SUMMARY:Soundscape Music Ensemble
DESCRIPTION:Carpool 4:45 – 5:00 PM
URL:https://www.tcsatl.org/event/soundscape-music-ensemble-6/
END:VEVENT
BEGIN:VEVENT
DTSTART;TZID=America/New_York:20230918T154500
DTEND;TZID=America/New_York:20230918T164500
DTSTAMP:20260421T163218
CREATED:20230810T053027Z
LAST-MODIFIED:20230905T214554Z
UID:10009427-1695051900-1695055500@www.tcsatl.org
SUMMARY:Intramural Girls & Boys Cross Country
DESCRIPTION:Carpool 4:45-5:00 PM
URL:https://www.tcsatl.org/event/intramural-girls-boys-cross-country-13/
END:VEVENT
BEGIN:VEVENT
DTSTART;TZID=America/New_York:20230918T154500
DTEND;TZID=America/New_York:20230918T170000
DTSTAMP:20260421T163218
CREATED:20230810T053027Z
LAST-MODIFIED:20230905T214554Z
UID:10009428-1695051900-1695056400@www.tcsatl.org
SUMMARY:MAAC Co-Ed Ultimate Frisbee (Grades 5-8)
DESCRIPTION:carpool 5:00 -5:15 PM
URL:https://www.tcsatl.org/event/maac-co-ed-ultimate-frisbee-grades-5-8-18/
END:VEVENT
BEGIN:VEVENT
DTSTART;TZID=America/New_York:20230918T154500
DTEND;TZID=America/New_York:20230918T170000
DTSTAMP:20260421T163218
CREATED:20230810T053027Z
LAST-MODIFIED:20230905T214554Z
UID:10009429-1695051900-1695056400@www.tcsatl.org
SUMMARY:MAAC Girls Volleyball
DESCRIPTION:Carpool 5:00-5:15 pm
URL:https://www.tcsatl.org/event/maac-girls-volleyball-103/
END:VEVENT
END:VCALENDAR