BEGIN:VCALENDAR
VERSION:2.0
PRODID:-//The Children&#039;s School - ECPv6.15.15//NONSGML v1.0//EN
CALSCALE:GREGORIAN
METHOD:PUBLISH
X-ORIGINAL-URL:https://www.tcsatl.org
X-WR-CALDESC:Events for The Children&#039;s School
REFRESH-INTERVAL;VALUE=DURATION:PT1H
X-Robots-Tag:noindex
X-PUBLISHED-TTL:PT1H
BEGIN:VTIMEZONE
TZID:America/New_York
BEGIN:DAYLIGHT
TZOFFSETFROM:-0500
TZOFFSETTO:-0400
TZNAME:EDT
DTSTART:20220313T070000
END:DAYLIGHT
BEGIN:STANDARD
TZOFFSETFROM:-0400
TZOFFSETTO:-0500
TZNAME:EST
DTSTART:20221106T060000
END:STANDARD
BEGIN:DAYLIGHT
TZOFFSETFROM:-0500
TZOFFSETTO:-0400
TZNAME:EDT
DTSTART:20230312T070000
END:DAYLIGHT
BEGIN:STANDARD
TZOFFSETFROM:-0400
TZOFFSETTO:-0500
TZNAME:EST
DTSTART:20231105T060000
END:STANDARD
BEGIN:DAYLIGHT
TZOFFSETFROM:-0500
TZOFFSETTO:-0400
TZNAME:EDT
DTSTART:20240310T070000
END:DAYLIGHT
BEGIN:STANDARD
TZOFFSETFROM:-0400
TZOFFSETTO:-0500
TZNAME:EST
DTSTART:20241103T060000
END:STANDARD
END:VTIMEZONE
BEGIN:VEVENT
DTSTART;TZID=America/New_York:20230913T151500
DTEND;TZID=America/New_York:20230913T161500
DTSTAMP:20260421T163216
CREATED:20230809T164613Z
LAST-MODIFIED:20230913T005951Z
UID:10009144-1694618100-1694621700@www.tcsatl.org
SUMMARY:TCS Jr. Players
DESCRIPTION:Carpool 4:15- 4:30 PM
URL:https://www.tcsatl.org/event/tcs-jr-players-70/
END:VEVENT
BEGIN:VEVENT
DTSTART;TZID=America/New_York:20230913T151500
DTEND;TZID=America/New_York:20230913T163000
DTSTAMP:20260421T163216
CREATED:20230809T164613Z
LAST-MODIFIED:20230913T005951Z
UID:10009142-1694618100-1694622600@www.tcsatl.org
SUMMARY:TCS Players (6-8th Grade)
DESCRIPTION:Carpool 4:30-4:45 PM
URL:https://www.tcsatl.org/event/tcs-players-6-8th-grade-3/
END:VEVENT
BEGIN:VEVENT
DTSTART;TZID=America/New_York:20230913T151500
DTEND;TZID=America/New_York:20230913T163000
DTSTAMP:20260421T163216
CREATED:20230810T053026Z
LAST-MODIFIED:20230905T214542Z
UID:10010486-1694618100-1694622600@www.tcsatl.org
SUMMARY:Intramural Co-Ed Tennis (Grades 3-5)
DESCRIPTION:Carpool 4:40-4:55 PM
URL:https://www.tcsatl.org/event/intramural-co-ed-tennis-grades-3-5-10/
END:VEVENT
BEGIN:VEVENT
DTSTART;TZID=America/New_York:20230913T154500
DTEND;TZID=America/New_York:20230913T164500
DTSTAMP:20260421T163216
CREATED:20230810T053026Z
LAST-MODIFIED:20230905T214542Z
UID:10010485-1694619900-1694623500@www.tcsatl.org
SUMMARY:Intramural Co-Ed Volleyball
DESCRIPTION:Carpool 4:45 – 5:00 PM
URL:https://www.tcsatl.org/event/intramural-co-ed-volleyball-11/
END:VEVENT
BEGIN:VEVENT
DTSTART;TZID=America/New_York:20230913T154500
DTEND;TZID=America/New_York:20230913T170000
DTSTAMP:20260421T163216
CREATED:20230810T053026Z
LAST-MODIFIED:20230905T214542Z
UID:10010487-1694619900-1694624400@www.tcsatl.org
SUMMARY:MAAC Girls & Boys Cross Country (Grades 6-8)
DESCRIPTION:Carpool 5:00- 5:15 PM
URL:https://www.tcsatl.org/event/maac-girls-boys-cross-country-grades-6-8-15/
END:VEVENT
BEGIN:VEVENT
DTSTART;TZID=America/New_York:20230913T154500
DTEND;TZID=America/New_York:20230913T174500
DTSTAMP:20260421T163216
CREATED:20230809T164613Z
LAST-MODIFIED:20230913T005951Z
UID:10009141-1694619900-1694627100@www.tcsatl.org
SUMMARY:Teachshirt Academy
DESCRIPTION:Carpool 5:45 – 6:00 PM
URL:https://www.tcsatl.org/event/teachshirt-academy-5/
END:VEVENT
END:VCALENDAR