BEGIN:VCALENDAR
VERSION:2.0
PRODID:-//The Children&#039;s School - ECPv6.15.15//NONSGML v1.0//EN
CALSCALE:GREGORIAN
METHOD:PUBLISH
X-WR-CALNAME:The Children&#039;s School
X-ORIGINAL-URL:https://www.tcsatl.org
X-WR-CALDESC:Events for The Children&#039;s School
REFRESH-INTERVAL;VALUE=DURATION:PT1H
X-Robots-Tag:noindex
X-PUBLISHED-TTL:PT1H
BEGIN:VTIMEZONE
TZID:America/New_York
BEGIN:DAYLIGHT
TZOFFSETFROM:-0500
TZOFFSETTO:-0400
TZNAME:EDT
DTSTART:20220313T070000
END:DAYLIGHT
BEGIN:STANDARD
TZOFFSETFROM:-0400
TZOFFSETTO:-0500
TZNAME:EST
DTSTART:20221106T060000
END:STANDARD
BEGIN:DAYLIGHT
TZOFFSETFROM:-0500
TZOFFSETTO:-0400
TZNAME:EDT
DTSTART:20230312T070000
END:DAYLIGHT
BEGIN:STANDARD
TZOFFSETFROM:-0400
TZOFFSETTO:-0500
TZNAME:EST
DTSTART:20231105T060000
END:STANDARD
BEGIN:DAYLIGHT
TZOFFSETFROM:-0500
TZOFFSETTO:-0400
TZNAME:EDT
DTSTART:20240310T070000
END:DAYLIGHT
BEGIN:STANDARD
TZOFFSETFROM:-0400
TZOFFSETTO:-0500
TZNAME:EST
DTSTART:20241103T060000
END:STANDARD
END:VTIMEZONE
BEGIN:VEVENT
DTSTART;TZID=America/New_York:20230912T151500
DTEND;TZID=America/New_York:20230912T161500
DTSTAMP:20260421T163030
CREATED:20230906T010110Z
LAST-MODIFIED:20230912T005954Z
UID:10010563-1694531700-1694535300@www.tcsatl.org
SUMMARY:Intro to Drums I & II and Percussion Ensemble III & IV
DESCRIPTION:
URL:https://www.tcsatl.org/event/intro-to-drums-i-ii-and-percussion-ensemble-iii-iv/
END:VEVENT
BEGIN:VEVENT
DTSTART;TZID=America/New_York:20230912T151500
DTEND;TZID=America/New_York:20230912T163000
DTSTAMP:20260421T163030
CREATED:20230809T164612Z
LAST-MODIFIED:20230912T005954Z
UID:10010210-1694531700-1694536200@www.tcsatl.org
SUMMARY:TCS Jr Voices
DESCRIPTION:Carpool 04:30 – 04:45 PM
URL:https://www.tcsatl.org/event/tcs-jr-voices-40/
END:VEVENT
BEGIN:VEVENT
DTSTART;TZID=America/New_York:20230912T151500
DTEND;TZID=America/New_York:20230912T163000
DTSTAMP:20260421T163030
CREATED:20230810T053026Z
LAST-MODIFIED:20230905T214542Z
UID:10010482-1694531700-1694536200@www.tcsatl.org
SUMMARY:Intramural Co-Ed Tennis (Grades 3-5)
DESCRIPTION:Carpool 4:40-4:55 PM
URL:https://www.tcsatl.org/event/intramural-co-ed-tennis-grades-3-5-9/
END:VEVENT
BEGIN:VEVENT
DTSTART;TZID=America/New_York:20230912T154500
DTEND;TZID=America/New_York:20230912T164500
DTSTAMP:20260421T163030
CREATED:20230809T164612Z
LAST-MODIFIED:20230912T005954Z
UID:10010209-1694533500-1694537100@www.tcsatl.org
SUMMARY:Science Creations S.T.E.A.M.
DESCRIPTION:
URL:https://www.tcsatl.org/event/science-creations-s-t-e-a-m-8/
END:VEVENT
BEGIN:VEVENT
DTSTART;TZID=America/New_York:20230912T154500
DTEND;TZID=America/New_York:20230912T164500
DTSTAMP:20260421T163030
CREATED:20230810T053026Z
LAST-MODIFIED:20230905T214529Z
UID:10010484-1694533500-1694537100@www.tcsatl.org
SUMMARY:Intramural Co-Ed Volleyball
DESCRIPTION:Carpool 4:45 – 5:00 PM
URL:https://www.tcsatl.org/event/intramural-co-ed-volleyball-10/
END:VEVENT
BEGIN:VEVENT
DTSTART;TZID=America/New_York:20230912T154500
DTEND;TZID=America/New_York:20230912T170000
DTSTAMP:20260421T163030
CREATED:20230810T053026Z
LAST-MODIFIED:20230905T214542Z
UID:10010483-1694533500-1694538000@www.tcsatl.org
SUMMARY:MAAC Girls & Boys Cross Country (Grades 6-8)
DESCRIPTION:Carpool 5:00- 5:15 PM
URL:https://www.tcsatl.org/event/maac-girls-boys-cross-country-grades-6-8-14/
END:VEVENT
BEGIN:VEVENT
DTSTART;TZID=America/New_York:20230912T160000
DTEND;TZID=America/New_York:20230912T180000
DTSTAMP:20260421T163030
CREATED:20230830T214501Z
LAST-MODIFIED:20230905T214541Z
UID:10010543-1694534400-1694541600@www.tcsatl.org
SUMMARY:HOME GAME - MAAC Girls Volleyball vs. Cliff Valley - Gym
DESCRIPTION:
URL:https://www.tcsatl.org/event/home-game-maac-girls-volleyball-vs-cliff-valley-gym/
LOCATION:Building D-2-TCS Gym (500)
END:VEVENT
BEGIN:VEVENT
DTSTART;TZID=America/New_York:20230912T161500
DTEND;TZID=America/New_York:20230912T171500
DTSTAMP:20260421T163030
CREATED:20230809T164612Z
LAST-MODIFIED:20230905T010036Z
UID:10010208-1694535300-1694538900@www.tcsatl.org
SUMMARY:Intro to Drums I & II
DESCRIPTION:Carpool 5:15 – 5:30 PM
URL:https://www.tcsatl.org/event/intro-to-drums-i-ii-5/
END:VEVENT
END:VCALENDAR