BEGIN:VCALENDAR
VERSION:2.0
PRODID:-//The Children&#039;s School - ECPv6.15.15//NONSGML v1.0//EN
CALSCALE:GREGORIAN
METHOD:PUBLISH
X-ORIGINAL-URL:https://www.tcsatl.org
X-WR-CALDESC:Events for The Children&#039;s School
REFRESH-INTERVAL;VALUE=DURATION:PT1H
X-Robots-Tag:noindex
X-PUBLISHED-TTL:PT1H
BEGIN:VTIMEZONE
TZID:America/New_York
BEGIN:DAYLIGHT
TZOFFSETFROM:-0500
TZOFFSETTO:-0400
TZNAME:EDT
DTSTART:20220313T070000
END:DAYLIGHT
BEGIN:STANDARD
TZOFFSETFROM:-0400
TZOFFSETTO:-0500
TZNAME:EST
DTSTART:20221106T060000
END:STANDARD
BEGIN:DAYLIGHT
TZOFFSETFROM:-0500
TZOFFSETTO:-0400
TZNAME:EDT
DTSTART:20230312T070000
END:DAYLIGHT
BEGIN:STANDARD
TZOFFSETFROM:-0400
TZOFFSETTO:-0500
TZNAME:EST
DTSTART:20231105T060000
END:STANDARD
BEGIN:DAYLIGHT
TZOFFSETFROM:-0500
TZOFFSETTO:-0400
TZNAME:EDT
DTSTART:20240310T070000
END:DAYLIGHT
BEGIN:STANDARD
TZOFFSETFROM:-0400
TZOFFSETTO:-0500
TZNAME:EST
DTSTART:20241103T060000
END:STANDARD
END:VTIMEZONE
BEGIN:VEVENT
DTSTART;TZID=America/New_York:20230911T151500
DTEND;TZID=America/New_York:20230911T161500
DTSTAMP:20260421T163215
CREATED:20230809T164612Z
LAST-MODIFIED:20230830T010037Z
UID:10010206-1694445300-1694448900@www.tcsatl.org
SUMMARY:Bricks4Kidz
DESCRIPTION:
URL:https://www.tcsatl.org/event/bricks4kidz-24/
END:VEVENT
BEGIN:VEVENT
DTSTART;TZID=America/New_York:20230911T151500
DTEND;TZID=America/New_York:20230911T161500
DTSTAMP:20260421T163215
CREATED:20230831T010008Z
LAST-MODIFIED:20230911T004641Z
UID:10010549-1694445300-1694448900@www.tcsatl.org
SUMMARY:Bricks4Kidz
DESCRIPTION:
URL:https://www.tcsatl.org/event/bricks4kidz-40/
END:VEVENT
BEGIN:VEVENT
DTSTART;TZID=America/New_York:20230911T151500
DTEND;TZID=America/New_York:20230911T163000
DTSTAMP:20260421T163215
CREATED:20230809T164612Z
LAST-MODIFIED:20230911T004640Z
UID:10010205-1694445300-1694449800@www.tcsatl.org
SUMMARY:TCS Players (6-8th Grade)
DESCRIPTION:Carpool 4:30-4:45 PM
URL:https://www.tcsatl.org/event/tcs-players-6-8th-grade-2/
END:VEVENT
BEGIN:VEVENT
DTSTART;TZID=America/New_York:20230911T154500
DTEND;TZID=America/New_York:20230911T164500
DTSTAMP:20260421T163215
CREATED:20230809T164612Z
LAST-MODIFIED:20230911T004640Z
UID:10010207-1694447100-1694450700@www.tcsatl.org
SUMMARY:Soundscape Music Ensemble
DESCRIPTION:Carpool 4:45 – 5:00 PM
URL:https://www.tcsatl.org/event/soundscape-music-ensemble-5/
END:VEVENT
BEGIN:VEVENT
DTSTART;TZID=America/New_York:20230911T154500
DTEND;TZID=America/New_York:20230911T164500
DTSTAMP:20260421T163215
CREATED:20230810T053025Z
LAST-MODIFIED:20230905T214528Z
UID:10010479-1694447100-1694450700@www.tcsatl.org
SUMMARY:Intramural Girls & Boys Cross Country
DESCRIPTION:Carpool 4:45-5:00 PM
URL:https://www.tcsatl.org/event/intramural-girls-boys-cross-country-11/
END:VEVENT
BEGIN:VEVENT
DTSTART;TZID=America/New_York:20230911T154500
DTEND;TZID=America/New_York:20230911T170000
DTSTAMP:20260421T163215
CREATED:20230810T053026Z
LAST-MODIFIED:20230905T214528Z
UID:10010480-1694447100-1694451600@www.tcsatl.org
SUMMARY:MAAC Girls Volleyball
DESCRIPTION:Carpool 5:00-5:15 pm
URL:https://www.tcsatl.org/event/maac-girls-volleyball-100/
END:VEVENT
BEGIN:VEVENT
DTSTART;TZID=America/New_York:20230911T154500
DTEND;TZID=America/New_York:20230911T170000
DTSTAMP:20260421T163215
CREATED:20230810T053026Z
LAST-MODIFIED:20230905T214529Z
UID:10010481-1694447100-1694451600@www.tcsatl.org
SUMMARY:MAAC Co-Ed Ultimate Frisbee (Grades 5-8)
DESCRIPTION:carpool 5:00 -5:15 PM
URL:https://www.tcsatl.org/event/maac-co-ed-ultimate-frisbee-grades-5-8-15/
END:VEVENT
BEGIN:VEVENT
DTSTART;TZID=America/New_York:20230911T160000
DTEND;TZID=America/New_York:20230911T180000
DTSTAMP:20260421T163215
CREATED:20230828T214534Z
LAST-MODIFIED:20230905T214528Z
UID:10010531-1694448000-1694455200@www.tcsatl.org
SUMMARY:MAAC Co-Ed Ultimate Frisbee vs Cliff Valley - Piedmont Park
DESCRIPTION:
URL:https://www.tcsatl.org/event/maac-co-ed-ultimate-frisbee-vs-cliff-valley-piedmont-park/
END:VEVENT
BEGIN:VEVENT
DTSTART;TZID=America/New_York:20230911T160000
DTEND;TZID=America/New_York:20230911T180000
DTSTAMP:20260421T163215
CREATED:20230830T214500Z
LAST-MODIFIED:20230905T214529Z
UID:10010542-1694448000-1694455200@www.tcsatl.org
SUMMARY:AWAY GAME - MAAC Girls Volleyball vs Heritage Prep
DESCRIPTION:
URL:https://www.tcsatl.org/event/away-game-maac-girls-volleyball-vs-heritage-prep/
LOCATION:Heritage Preparatory School\, 1700 Piedmont Ave NE\, Atlanta\, GA 30324\, USA\, 500 Piedmont Ave NE\, Atlanta\, GA\, United States
GEO:33.799884;-84.370708
X-APPLE-STRUCTURED-LOCATION;VALUE=URI;X-ADDRESS=Heritage Preparatory School 1700 Piedmont Ave NE Atlanta GA 30324 USA 500 Piedmont Ave NE Atlanta GA United States;X-APPLE-RADIUS=500;X-TITLE=500 Piedmont Ave NE:geo:-84.370708,33.799884
END:VEVENT
END:VCALENDAR