BEGIN:VCALENDAR
VERSION:2.0
PRODID:-//The Children&#039;s School - ECPv6.15.15//NONSGML v1.0//EN
CALSCALE:GREGORIAN
METHOD:PUBLISH
X-ORIGINAL-URL:https://www.tcsatl.org
X-WR-CALDESC:Events for The Children&#039;s School
REFRESH-INTERVAL;VALUE=DURATION:PT1H
X-Robots-Tag:noindex
X-PUBLISHED-TTL:PT1H
BEGIN:VTIMEZONE
TZID:America/New_York
BEGIN:DAYLIGHT
TZOFFSETFROM:-0500
TZOFFSETTO:-0400
TZNAME:EDT
DTSTART:20220313T070000
END:DAYLIGHT
BEGIN:STANDARD
TZOFFSETFROM:-0400
TZOFFSETTO:-0500
TZNAME:EST
DTSTART:20221106T060000
END:STANDARD
BEGIN:DAYLIGHT
TZOFFSETFROM:-0500
TZOFFSETTO:-0400
TZNAME:EDT
DTSTART:20230312T070000
END:DAYLIGHT
BEGIN:STANDARD
TZOFFSETFROM:-0400
TZOFFSETTO:-0500
TZNAME:EST
DTSTART:20231105T060000
END:STANDARD
BEGIN:DAYLIGHT
TZOFFSETFROM:-0500
TZOFFSETTO:-0400
TZNAME:EDT
DTSTART:20240310T070000
END:DAYLIGHT
BEGIN:STANDARD
TZOFFSETFROM:-0400
TZOFFSETTO:-0500
TZNAME:EST
DTSTART:20241103T060000
END:STANDARD
END:VTIMEZONE
BEGIN:VEVENT
DTSTART;TZID=America/New_York:20230831T151500
DTEND;TZID=America/New_York:20230831T161500
DTSTAMP:20260421T114016
CREATED:20230809T164607Z
LAST-MODIFIED:20230831T010006Z
UID:10010188-1693494900-1693498500@www.tcsatl.org
SUMMARY:Tonchu Martial Arts
DESCRIPTION:Carpool 4:15-4:30 PM
URL:https://www.tcsatl.org/event/tonchu-martial-arts-5/
END:VEVENT
BEGIN:VEVENT
DTSTART;TZID=America/New_York:20230831T151500
DTEND;TZID=America/New_York:20230831T161500
DTSTAMP:20260421T114016
CREATED:20230809T164608Z
LAST-MODIFIED:20230831T010006Z
UID:10010189-1693494900-1693498500@www.tcsatl.org
SUMMARY:Drums (All Levels)
DESCRIPTION:Carpool 4:15- 4:30 PM
URL:https://www.tcsatl.org/event/drums-all-levels-6/
END:VEVENT
BEGIN:VEVENT
DTSTART;TZID=America/New_York:20230831T151500
DTEND;TZID=America/New_York:20230831T164500
DTSTAMP:20260421T114016
CREATED:20230809T164608Z
LAST-MODIFIED:20230831T010006Z
UID:10010191-1693494900-1693500300@www.tcsatl.org
SUMMARY:Kids TV - Video & Film Production Class
DESCRIPTION:Carpool 4:45 – 4:30 PM
URL:https://www.tcsatl.org/event/kids-tv-video-film-production-class-20/
END:VEVENT
BEGIN:VEVENT
DTSTART;TZID=America/New_York:20230831T154500
DTEND;TZID=America/New_York:20230831T164500
DTSTAMP:20260421T114016
CREATED:20230809T164608Z
LAST-MODIFIED:20230831T010006Z
UID:10010190-1693496700-1693500300@www.tcsatl.org
SUMMARY:Science Creations S.T.E.A.M.
DESCRIPTION:Carpool 4:45- 5:00 PM
URL:https://www.tcsatl.org/event/science-creations-s-t-e-a-m-5/
END:VEVENT
BEGIN:VEVENT
DTSTART;TZID=America/New_York:20230831T154500
DTEND;TZID=America/New_York:20230831T164500
DTSTAMP:20260421T114016
CREATED:20230810T053023Z
LAST-MODIFIED:20230830T214458Z
UID:10010468-1693496700-1693500300@www.tcsatl.org
SUMMARY:Intramural Girls & Boys Cross Country
DESCRIPTION:Carpool 4:45-5:00 PM
URL:https://www.tcsatl.org/event/intramural-girls-boys-cross-country-8/
END:VEVENT
BEGIN:VEVENT
DTSTART;TZID=America/New_York:20230831T154500
DTEND;TZID=America/New_York:20230831T170000
DTSTAMP:20260421T114016
CREATED:20230810T053023Z
LAST-MODIFIED:20230830T214458Z
UID:10010469-1693496700-1693501200@www.tcsatl.org
SUMMARY:MAAC Co-Ed Ultimate Frisbee (Grades 5-8)
DESCRIPTION:carpool 5:00 -5:15 PM
URL:https://www.tcsatl.org/event/maac-co-ed-ultimate-frisbee-grades-5-8-10/
END:VEVENT
BEGIN:VEVENT
DTSTART;TZID=America/New_York:20230831T154500
DTEND;TZID=America/New_York:20230831T170000
DTSTAMP:20260421T114016
CREATED:20230810T053023Z
LAST-MODIFIED:20230830T214458Z
UID:10010470-1693496700-1693501200@www.tcsatl.org
SUMMARY:MAAC Girls Volleyball
DESCRIPTION:Carpool 5:00-5:15 pm
URL:https://www.tcsatl.org/event/maac-girls-volleyball-95/
END:VEVENT
END:VCALENDAR