BEGIN:VCALENDAR
VERSION:2.0
PRODID:-//The Children&#039;s School - ECPv6.15.15//NONSGML v1.0//EN
CALSCALE:GREGORIAN
METHOD:PUBLISH
X-ORIGINAL-URL:https://www.tcsatl.org
X-WR-CALDESC:Events for The Children&#039;s School
REFRESH-INTERVAL;VALUE=DURATION:PT1H
X-Robots-Tag:noindex
X-PUBLISHED-TTL:PT1H
BEGIN:VTIMEZONE
TZID:America/New_York
BEGIN:DAYLIGHT
TZOFFSETFROM:-0500
TZOFFSETTO:-0400
TZNAME:EDT
DTSTART:20220313T070000
END:DAYLIGHT
BEGIN:STANDARD
TZOFFSETFROM:-0400
TZOFFSETTO:-0500
TZNAME:EST
DTSTART:20221106T060000
END:STANDARD
BEGIN:DAYLIGHT
TZOFFSETFROM:-0500
TZOFFSETTO:-0400
TZNAME:EDT
DTSTART:20230312T070000
END:DAYLIGHT
BEGIN:STANDARD
TZOFFSETFROM:-0400
TZOFFSETTO:-0500
TZNAME:EST
DTSTART:20231105T060000
END:STANDARD
BEGIN:DAYLIGHT
TZOFFSETFROM:-0500
TZOFFSETTO:-0400
TZNAME:EDT
DTSTART:20240310T070000
END:DAYLIGHT
BEGIN:STANDARD
TZOFFSETFROM:-0400
TZOFFSETTO:-0500
TZNAME:EST
DTSTART:20241103T060000
END:STANDARD
END:VTIMEZONE
BEGIN:VEVENT
DTSTART;TZID=America/New_York:20230824T151500
DTEND;TZID=America/New_York:20230824T161500
DTSTAMP:20260421T114015
CREATED:20230809T164552Z
LAST-MODIFIED:20230824T000123Z
UID:10010175-1692890100-1692893700@www.tcsatl.org
SUMMARY:Tonchu Martial Arts
DESCRIPTION:Carpool 4:15-4:30 PM
URL:https://www.tcsatl.org/event/tonchu-martial-arts-4/
END:VEVENT
BEGIN:VEVENT
DTSTART;TZID=America/New_York:20230824T151500
DTEND;TZID=America/New_York:20230824T161500
DTSTAMP:20260421T114015
CREATED:20230809T164552Z
LAST-MODIFIED:20230824T000123Z
UID:10010176-1692890100-1692893700@www.tcsatl.org
SUMMARY:Drums (All Levels)
DESCRIPTION:Carpool 4:15- 4:30 PM
URL:https://www.tcsatl.org/event/drums-all-levels-5/
END:VEVENT
BEGIN:VEVENT
DTSTART;TZID=America/New_York:20230824T151500
DTEND;TZID=America/New_York:20230824T164500
DTSTAMP:20260421T114015
CREATED:20230809T164552Z
LAST-MODIFIED:20230824T000123Z
UID:10010177-1692890100-1692895500@www.tcsatl.org
SUMMARY:Kids TV - Video & Film Production Class
DESCRIPTION:Carpool 4:45 – 4:30 PM
URL:https://www.tcsatl.org/event/kids-tv-video-film-production-class-19/
END:VEVENT
BEGIN:VEVENT
DTSTART;TZID=America/New_York:20230824T154500
DTEND;TZID=America/New_York:20230824T164500
DTSTAMP:20260421T114015
CREATED:20230809T164552Z
LAST-MODIFIED:20230824T000123Z
UID:10010174-1692891900-1692895500@www.tcsatl.org
SUMMARY:Science Creations S.T.E.A.M.
DESCRIPTION:Carpool 4:45- 5:00 PM
URL:https://www.tcsatl.org/event/science-creations-s-t-e-a-m-2/
END:VEVENT
BEGIN:VEVENT
DTSTART;TZID=America/New_York:20230824T154500
DTEND;TZID=America/New_York:20230824T164500
DTSTAMP:20260421T114015
CREATED:20230810T053022Z
LAST-MODIFIED:20230823T213102Z
UID:10009399-1692891900-1692895500@www.tcsatl.org
SUMMARY:Intramural Girls & Boys Cross Country
DESCRIPTION:Carpool 4:45-5:00 PM
URL:https://www.tcsatl.org/event/intramural-girls-boys-cross-country-6/
END:VEVENT
BEGIN:VEVENT
DTSTART;TZID=America/New_York:20230824T154500
DTEND;TZID=America/New_York:20230824T170000
DTSTAMP:20260421T114015
CREATED:20230810T053022Z
LAST-MODIFIED:20230823T213102Z
UID:10009397-1692891900-1692896400@www.tcsatl.org
SUMMARY:MAAC Girls Volleyball
DESCRIPTION:Carpool 5:00-5:15 pm
URL:https://www.tcsatl.org/event/maac-girls-volleyball-92/
END:VEVENT
BEGIN:VEVENT
DTSTART;TZID=America/New_York:20230824T154500
DTEND;TZID=America/New_York:20230824T170000
DTSTAMP:20260421T114015
CREATED:20230810T053022Z
LAST-MODIFIED:20230823T213102Z
UID:10009401-1692891900-1692896400@www.tcsatl.org
SUMMARY:MAAC Co-Ed Ultimate Frisbee (Grades 5-8)
DESCRIPTION:carpool 5:00 -5:15 PM
URL:https://www.tcsatl.org/event/maac-co-ed-ultimate-frisbee-grades-5-8-7/
END:VEVENT
BEGIN:VEVENT
DTSTART;TZID=America/New_York:20230824T180000
DTEND;TZID=America/New_York:20230824T200000
DTSTAMP:20260421T114016
CREATED:20230201T214457Z
LAST-MODIFIED:20230824T184721Z
UID:10008990-1692900000-1692907200@www.tcsatl.org
SUMMARY:Back to School Night (4th to 8th Grade) - TBD
DESCRIPTION:
URL:https://www.tcsatl.org/event/back-to-school-night-4th-to-8th-grade-tbd/
END:VEVENT
END:VCALENDAR