BEGIN:VCALENDAR
VERSION:2.0
PRODID:-//The Children&#039;s School - ECPv6.15.15//NONSGML v1.0//EN
CALSCALE:GREGORIAN
METHOD:PUBLISH
X-ORIGINAL-URL:https://www.tcsatl.org
X-WR-CALDESC:Events for The Children&#039;s School
REFRESH-INTERVAL;VALUE=DURATION:PT1H
X-Robots-Tag:noindex
X-PUBLISHED-TTL:PT1H
BEGIN:VTIMEZONE
TZID:America/New_York
BEGIN:DAYLIGHT
TZOFFSETFROM:-0500
TZOFFSETTO:-0400
TZNAME:EDT
DTSTART:20220313T070000
END:DAYLIGHT
BEGIN:STANDARD
TZOFFSETFROM:-0400
TZOFFSETTO:-0500
TZNAME:EST
DTSTART:20221106T060000
END:STANDARD
BEGIN:DAYLIGHT
TZOFFSETFROM:-0500
TZOFFSETTO:-0400
TZNAME:EDT
DTSTART:20230312T070000
END:DAYLIGHT
BEGIN:STANDARD
TZOFFSETFROM:-0400
TZOFFSETTO:-0500
TZNAME:EST
DTSTART:20231105T060000
END:STANDARD
BEGIN:DAYLIGHT
TZOFFSETFROM:-0500
TZOFFSETTO:-0400
TZNAME:EDT
DTSTART:20240310T070000
END:DAYLIGHT
BEGIN:STANDARD
TZOFFSETFROM:-0400
TZOFFSETTO:-0500
TZNAME:EST
DTSTART:20241103T060000
END:STANDARD
END:VTIMEZONE
BEGIN:VEVENT
DTSTART;TZID=America/New_York:20230822T151500
DTEND;TZID=America/New_York:20230822T161500
DTSTAMP:20260421T113454
CREATED:20230809T164552Z
LAST-MODIFIED:20230821T234538Z
UID:10010170-1692717300-1692720900@www.tcsatl.org
SUMMARY:Percussion Ensemble III & IV
DESCRIPTION:Carpool 4:15 – 4:30 PM
URL:https://www.tcsatl.org/event/percussion-ensemble-iii-iv/
END:VEVENT
BEGIN:VEVENT
DTSTART;TZID=America/New_York:20230822T151500
DTEND;TZID=America/New_York:20230822T163000
DTSTAMP:20260421T113454
CREATED:20230810T053021Z
LAST-MODIFIED:20230821T213026Z
UID:10010456-1692717300-1692721800@www.tcsatl.org
SUMMARY:Intramural Co-Ed Tennis (Grades 3-5)
DESCRIPTION:Carpool 4:40-4:55 PM
URL:https://www.tcsatl.org/event/intramural-co-ed-tennis-grades-3-5-3/
END:VEVENT
BEGIN:VEVENT
DTSTART;TZID=America/New_York:20230822T154500
DTEND;TZID=America/New_York:20230822T164500
DTSTAMP:20260421T113454
CREATED:20230809T164552Z
LAST-MODIFIED:20230821T234538Z
UID:10010171-1692719100-1692722700@www.tcsatl.org
SUMMARY:Science Creations S.T.E.A.M.
DESCRIPTION:
URL:https://www.tcsatl.org/event/science-creations-s-t-e-a-m/
END:VEVENT
BEGIN:VEVENT
DTSTART;TZID=America/New_York:20230822T154500
DTEND;TZID=America/New_York:20230822T164500
DTSTAMP:20260421T113454
CREATED:20230810T053021Z
LAST-MODIFIED:20230821T213026Z
UID:10009387-1692719100-1692722700@www.tcsatl.org
SUMMARY:Intramural Co-Ed Volleyball
DESCRIPTION:Carpool 4:45 – 5:00 PM
URL:https://www.tcsatl.org/event/intramural-co-ed-volleyball-3/
END:VEVENT
BEGIN:VEVENT
DTSTART;TZID=America/New_York:20230822T154500
DTEND;TZID=America/New_York:20230822T164500
DTSTAMP:20260421T113454
CREATED:20230810T053021Z
LAST-MODIFIED:20230810T053021Z
UID:10009389-1692719100-1692722700@www.tcsatl.org
SUMMARY:Intramural Co-Ed Volleyball
DESCRIPTION:Carpool 4:45 – 5:00 PM
URL:https://www.tcsatl.org/event/intramural-co-ed-volleyball-4/
END:VEVENT
BEGIN:VEVENT
DTSTART;TZID=America/New_York:20230822T154500
DTEND;TZID=America/New_York:20230822T170000
DTSTAMP:20260421T113454
CREATED:20230810T053021Z
LAST-MODIFIED:20230821T213026Z
UID:10009391-1692719100-1692723600@www.tcsatl.org
SUMMARY:MAAC Girls & Boys Cross Country (Grades 6-8)
DESCRIPTION:Carpool 5:00- 5:15 PM
URL:https://www.tcsatl.org/event/maac-girls-boys-cross-country-grades-6-8-5/
END:VEVENT
BEGIN:VEVENT
DTSTART;TZID=America/New_York:20230822T161500
DTEND;TZID=America/New_York:20230822T171500
DTSTAMP:20260421T113454
CREATED:20230809T164552Z
LAST-MODIFIED:20230821T234538Z
UID:10010172-1692720900-1692724500@www.tcsatl.org
SUMMARY:Intro to Drums I & II
DESCRIPTION:Carpool 5:15 – 5:30 PM
URL:https://www.tcsatl.org/event/intro-to-drums-i-ii/
END:VEVENT
END:VCALENDAR