BEGIN:VCALENDAR
VERSION:2.0
PRODID:-//The Children&#039;s School - ECPv6.15.15//NONSGML v1.0//EN
CALSCALE:GREGORIAN
METHOD:PUBLISH
X-WR-CALNAME:The Children&#039;s School
X-ORIGINAL-URL:https://www.tcsatl.org
X-WR-CALDESC:Events for The Children&#039;s School
REFRESH-INTERVAL;VALUE=DURATION:PT1H
X-Robots-Tag:noindex
X-PUBLISHED-TTL:PT1H
BEGIN:VTIMEZONE
TZID:America/New_York
BEGIN:DAYLIGHT
TZOFFSETFROM:-0500
TZOFFSETTO:-0400
TZNAME:EDT
DTSTART:20220313T070000
END:DAYLIGHT
BEGIN:STANDARD
TZOFFSETFROM:-0400
TZOFFSETTO:-0500
TZNAME:EST
DTSTART:20221106T060000
END:STANDARD
BEGIN:DAYLIGHT
TZOFFSETFROM:-0500
TZOFFSETTO:-0400
TZNAME:EDT
DTSTART:20230312T070000
END:DAYLIGHT
BEGIN:STANDARD
TZOFFSETFROM:-0400
TZOFFSETTO:-0500
TZNAME:EST
DTSTART:20231105T060000
END:STANDARD
BEGIN:DAYLIGHT
TZOFFSETFROM:-0500
TZOFFSETTO:-0400
TZNAME:EDT
DTSTART:20240310T070000
END:DAYLIGHT
BEGIN:STANDARD
TZOFFSETFROM:-0400
TZOFFSETTO:-0500
TZNAME:EST
DTSTART:20241103T060000
END:STANDARD
END:VTIMEZONE
BEGIN:VEVENT
DTSTART;VALUE=DATE:20230426
DTEND;VALUE=DATE:20230427
DTSTAMP:20260421T201809
CREATED:20220907T181444Z
LAST-MODIFIED:20230426T024454Z
UID:10009640-1682467200-1682553599@www.tcsatl.org
SUMMARY:E Day
DESCRIPTION:
URL:https://www.tcsatl.org/event/e-day-24/
END:VEVENT
BEGIN:VEVENT
DTSTART;TZID=America/New_York:20230426T151500
DTEND;TZID=America/New_York:20230426T161500
DTSTAMP:20260421T201809
CREATED:20220815T164340Z
LAST-MODIFIED:20230203T231500Z
UID:10009023-1682522100-1682525700@www.tcsatl.org
SUMMARY:TCS Jr. Players
DESCRIPTION:
URL:https://www.tcsatl.org/event/tcs-jr-players-64/
END:VEVENT
BEGIN:VEVENT
DTSTART;TZID=America/New_York:20230426T151500
DTEND;TZID=America/New_York:20230426T163000
DTSTAMP:20260421T201809
CREATED:20220815T164340Z
LAST-MODIFIED:20221120T194950Z
UID:10009033-1682522100-1682526600@www.tcsatl.org
SUMMARY:TCS Players
DESCRIPTION:
URL:https://www.tcsatl.org/event/tcs-players-119/
END:VEVENT
BEGIN:VEVENT
DTSTART;TZID=America/New_York:20230426T151500
DTEND;TZID=America/New_York:20230426T163000
DTSTAMP:20260421T201809
CREATED:20221128T203504Z
LAST-MODIFIED:20230203T231500Z
UID:10010024-1682522100-1682526600@www.tcsatl.org
SUMMARY:TCS Players
DESCRIPTION:
URL:https://www.tcsatl.org/event/tcs-players-171/
END:VEVENT
END:VCALENDAR