BEGIN:VCALENDAR
VERSION:2.0
PRODID:-//The Children&#039;s School - ECPv6.15.15//NONSGML v1.0//EN
CALSCALE:GREGORIAN
METHOD:PUBLISH
X-WR-CALNAME:The Children&#039;s School
X-ORIGINAL-URL:https://www.tcsatl.org
X-WR-CALDESC:Events for The Children&#039;s School
REFRESH-INTERVAL;VALUE=DURATION:PT1H
X-Robots-Tag:noindex
X-PUBLISHED-TTL:PT1H
BEGIN:VTIMEZONE
TZID:America/New_York
BEGIN:DAYLIGHT
TZOFFSETFROM:-0500
TZOFFSETTO:-0400
TZNAME:EDT
DTSTART:20220313T070000
END:DAYLIGHT
BEGIN:STANDARD
TZOFFSETFROM:-0400
TZOFFSETTO:-0500
TZNAME:EST
DTSTART:20221106T060000
END:STANDARD
BEGIN:DAYLIGHT
TZOFFSETFROM:-0500
TZOFFSETTO:-0400
TZNAME:EDT
DTSTART:20230312T070000
END:DAYLIGHT
BEGIN:STANDARD
TZOFFSETFROM:-0400
TZOFFSETTO:-0500
TZNAME:EST
DTSTART:20231105T060000
END:STANDARD
BEGIN:DAYLIGHT
TZOFFSETFROM:-0500
TZOFFSETTO:-0400
TZNAME:EDT
DTSTART:20240310T070000
END:DAYLIGHT
BEGIN:STANDARD
TZOFFSETFROM:-0400
TZOFFSETTO:-0500
TZNAME:EST
DTSTART:20241103T060000
END:STANDARD
END:VTIMEZONE
BEGIN:VEVENT
DTSTART;VALUE=DATE:20230403
DTEND;VALUE=DATE:20230408
DTSTAMP:20260421T182800
CREATED:20220728T163347Z
LAST-MODIFIED:20230407T014451Z
UID:10008551-1680480000-1680911999@www.tcsatl.org
SUMMARY:Spring Break
DESCRIPTION:
URL:https://www.tcsatl.org/event/spring-break-2/
END:VEVENT
BEGIN:VEVENT
DTSTART;TZID=America/New_York:20230406T151500
DTEND;TZID=America/New_York:20230406T163000
DTSTAMP:20260421T182800
CREATED:20220815T164338Z
LAST-MODIFIED:20221213T215215Z
UID:10008969-1680794100-1680798600@www.tcsatl.org
SUMMARY:TCS Voices
DESCRIPTION:
URL:https://www.tcsatl.org/event/tcs-voices-61/
END:VEVENT
BEGIN:VEVENT
DTSTART;TZID=America/New_York:20230406T151500
DTEND;TZID=America/New_York:20230406T163000
DTSTAMP:20260421T182800
CREATED:20230202T233004Z
LAST-MODIFIED:20230202T233004Z
UID:10010135-1680794100-1680798600@www.tcsatl.org
SUMMARY:MAAC Co-Ed Flag Football (5th- 8th Grade)
DESCRIPTION:Carpool 04:30 – 04:45 PM
URL:https://www.tcsatl.org/event/maac-co-ed-flag-football-5th-8th-grade-27/
END:VEVENT
BEGIN:VEVENT
DTSTART;TZID=America/New_York:20230406T151500
DTEND;TZID=America/New_York:20230406T164500
DTSTAMP:20260421T182800
CREATED:20230202T233004Z
LAST-MODIFIED:20230202T233004Z
UID:10010136-1680794100-1680799500@www.tcsatl.org
SUMMARY:Intramural Girls & Boys Basketball (3rd-5th Grade)
DESCRIPTION:Carpool 04:45 – 5:00 PM
URL:https://www.tcsatl.org/event/intramural-girls-boys-basketball-3rd-5th-grade-19/
END:VEVENT
END:VCALENDAR