BEGIN:VCALENDAR
VERSION:2.0
PRODID:-//The Children&#039;s School - ECPv6.15.15//NONSGML v1.0//EN
CALSCALE:GREGORIAN
METHOD:PUBLISH
X-ORIGINAL-URL:https://www.tcsatl.org
X-WR-CALDESC:Events for The Children&#039;s School
REFRESH-INTERVAL;VALUE=DURATION:PT1H
X-Robots-Tag:noindex
X-PUBLISHED-TTL:PT1H
BEGIN:VTIMEZONE
TZID:America/New_York
BEGIN:DAYLIGHT
TZOFFSETFROM:-0500
TZOFFSETTO:-0400
TZNAME:EDT
DTSTART:20220313T070000
END:DAYLIGHT
BEGIN:STANDARD
TZOFFSETFROM:-0400
TZOFFSETTO:-0500
TZNAME:EST
DTSTART:20221106T060000
END:STANDARD
BEGIN:DAYLIGHT
TZOFFSETFROM:-0500
TZOFFSETTO:-0400
TZNAME:EDT
DTSTART:20230312T070000
END:DAYLIGHT
BEGIN:STANDARD
TZOFFSETFROM:-0400
TZOFFSETTO:-0500
TZNAME:EST
DTSTART:20231105T060000
END:STANDARD
BEGIN:DAYLIGHT
TZOFFSETFROM:-0500
TZOFFSETTO:-0400
TZNAME:EDT
DTSTART:20240310T070000
END:DAYLIGHT
BEGIN:STANDARD
TZOFFSETFROM:-0400
TZOFFSETTO:-0500
TZNAME:EST
DTSTART:20241103T060000
END:STANDARD
END:VTIMEZONE
BEGIN:VEVENT
DTSTART;VALUE=DATE:20230315
DTEND;VALUE=DATE:20230316
DTSTAMP:20260421T214103
CREATED:20220907T181441Z
LAST-MODIFIED:20230315T000034Z
UID:10009616-1678838400-1678924799@www.tcsatl.org
SUMMARY:E Day
DESCRIPTION:
URL:https://www.tcsatl.org/event/e-day-20/
END:VEVENT
BEGIN:VEVENT
DTSTART;TZID=America/New_York:20230315T151500
DTEND;TZID=America/New_York:20230315T161500
DTSTAMP:20260421T214103
CREATED:20220815T164335Z
LAST-MODIFIED:20230203T231458Z
UID:10008933-1678893300-1678896900@www.tcsatl.org
SUMMARY:TCS Jr. Players
DESCRIPTION:
URL:https://www.tcsatl.org/event/tcs-jr-players-58/
END:VEVENT
BEGIN:VEVENT
DTSTART;TZID=America/New_York:20230315T151500
DTEND;TZID=America/New_York:20230315T163000
DTSTAMP:20260421T214103
CREATED:20220815T164335Z
LAST-MODIFIED:20221120T194948Z
UID:10008932-1678893300-1678897800@www.tcsatl.org
SUMMARY:TCS Players
DESCRIPTION:
URL:https://www.tcsatl.org/event/tcs-players-107/
END:VEVENT
BEGIN:VEVENT
DTSTART;TZID=America/New_York:20230315T151500
DTEND;TZID=America/New_York:20230315T163000
DTSTAMP:20260421T214103
CREATED:20221128T203459Z
LAST-MODIFIED:20230203T231458Z
UID:10008956-1678893300-1678897800@www.tcsatl.org
SUMMARY:TCS Players
DESCRIPTION:
URL:https://www.tcsatl.org/event/tcs-players-159/
END:VEVENT
BEGIN:VEVENT
DTSTART;TZID=America/New_York:20230315T151500
DTEND;TZID=America/New_York:20230315T163000
DTSTAMP:20260421T214103
CREATED:20230202T232959Z
LAST-MODIFIED:20230315T003019Z
UID:10010113-1678893300-1678897800@www.tcsatl.org
SUMMARY:MAAC Boys & Girls Tennis (5th to 8th Grade)
DESCRIPTION:Carpool 4:30-4:45 PM
URL:https://www.tcsatl.org/event/maac-boys-girls-tennis-5th-to-8th-grade-19/
END:VEVENT
BEGIN:VEVENT
DTSTART;TZID=America/New_York:20230315T151500
DTEND;TZID=America/New_York:20230315T164500
DTSTAMP:20260421T214103
CREATED:20230202T232959Z
LAST-MODIFIED:20230315T003019Z
UID:10010114-1678893300-1678898700@www.tcsatl.org
SUMMARY:Intramural Girl & Boys Track (3rd -5th Grade)
DESCRIPTION:
URL:https://www.tcsatl.org/event/intramural-girl-boys-track-3rd-5th-grade-13/
END:VEVENT
BEGIN:VEVENT
DTSTART;TZID=America/New_York:20230315T151500
DTEND;TZID=America/New_York:20230315T164500
DTSTAMP:20260421T214103
CREATED:20230202T232959Z
LAST-MODIFIED:20230315T003019Z
UID:10010115-1678893300-1678898700@www.tcsatl.org
SUMMARY:MAAC Girls & Boys Track & Field (6th to 8th Grade)
DESCRIPTION:Carpool 4:45-5:00 PM
URL:https://www.tcsatl.org/event/maac-girls-boys-track-field-6th-to-8th-grade-18/
END:VEVENT
BEGIN:VEVENT
DTSTART;TZID=America/New_York:20230315T160000
DTEND;TZID=America/New_York:20230315T170000
DTSTAMP:20260421T214103
CREATED:20230302T000008Z
LAST-MODIFIED:20230315T003020Z
UID:10010152-1678896000-1678899600@www.tcsatl.org
SUMMARY:AWAY GAME - MAAC TENNIS- Regular Tournament Round Robin - Top 11 Players - 2 BUSES
DESCRIPTION:
URL:https://www.tcsatl.org/event/away-game-maac-tennis-regular-tournament-round-robin-top-11-players-2-buses/
END:VEVENT
END:VCALENDAR