BEGIN:VCALENDAR
VERSION:2.0
PRODID:-//The Children&#039;s School - ECPv6.15.15//NONSGML v1.0//EN
CALSCALE:GREGORIAN
METHOD:PUBLISH
X-ORIGINAL-URL:https://www.tcsatl.org
X-WR-CALDESC:Events for The Children&#039;s School
REFRESH-INTERVAL;VALUE=DURATION:PT1H
X-Robots-Tag:noindex
X-PUBLISHED-TTL:PT1H
BEGIN:VTIMEZONE
TZID:America/New_York
BEGIN:DAYLIGHT
TZOFFSETFROM:-0500
TZOFFSETTO:-0400
TZNAME:EDT
DTSTART:20220313T070000
END:DAYLIGHT
BEGIN:STANDARD
TZOFFSETFROM:-0400
TZOFFSETTO:-0500
TZNAME:EST
DTSTART:20221106T060000
END:STANDARD
BEGIN:DAYLIGHT
TZOFFSETFROM:-0500
TZOFFSETTO:-0400
TZNAME:EDT
DTSTART:20230312T070000
END:DAYLIGHT
BEGIN:STANDARD
TZOFFSETFROM:-0400
TZOFFSETTO:-0500
TZNAME:EST
DTSTART:20231105T060000
END:STANDARD
BEGIN:DAYLIGHT
TZOFFSETFROM:-0500
TZOFFSETTO:-0400
TZNAME:EDT
DTSTART:20240310T070000
END:DAYLIGHT
BEGIN:STANDARD
TZOFFSETFROM:-0400
TZOFFSETTO:-0500
TZNAME:EST
DTSTART:20241103T060000
END:STANDARD
END:VTIMEZONE
BEGIN:VEVENT
DTSTART;VALUE=DATE:20230307
DTEND;VALUE=DATE:20230308
DTSTAMP:20260422T013428
CREATED:20220907T181440Z
LAST-MODIFIED:20230307T234449Z
UID:10009611-1678147200-1678233599@www.tcsatl.org
SUMMARY:F Day
DESCRIPTION:
URL:https://www.tcsatl.org/event/f-day-18/
END:VEVENT
BEGIN:VEVENT
DTSTART;TZID=America/New_York:20230307T151500
DTEND;TZID=America/New_York:20230307T163000
DTSTAMP:20260422T013428
CREATED:20220815T164334Z
LAST-MODIFIED:20230203T231457Z
UID:10008919-1678202100-1678206600@www.tcsatl.org
SUMMARY:TCS Jr. Voices
DESCRIPTION:
URL:https://www.tcsatl.org/event/tcs-jr-voices-27/
END:VEVENT
BEGIN:VEVENT
DTSTART;TZID=America/New_York:20230307T151500
DTEND;TZID=America/New_York:20230307T163000
DTSTAMP:20260422T013428
CREATED:20230202T232957Z
LAST-MODIFIED:20230307T001515Z
UID:10009041-1678202100-1678206600@www.tcsatl.org
SUMMARY:MAAC Co-Ed Flag Football (5th- 8th Grade)
DESCRIPTION:Carpool 04:30 – 04:45 PM
URL:https://www.tcsatl.org/event/maac-co-ed-flag-football-5th-8th-grade-14/
END:VEVENT
BEGIN:VEVENT
DTSTART;TZID=America/New_York:20230307T151500
DTEND;TZID=America/New_York:20230307T164500
DTSTAMP:20260422T013428
CREATED:20230202T232957Z
LAST-MODIFIED:20230307T001515Z
UID:10009040-1678202100-1678207500@www.tcsatl.org
SUMMARY:Intramural Girls & Boys Basketball (3rd-5th Grade)
DESCRIPTION:Carpool 04:45 – 5:00 PM
URL:https://www.tcsatl.org/event/intramural-girls-boys-basketball-3rd-5th-grade-10/
END:VEVENT
END:VCALENDAR