BEGIN:VCALENDAR
VERSION:2.0
PRODID:-//The Children&#039;s School - ECPv6.15.15//NONSGML v1.0//EN
CALSCALE:GREGORIAN
METHOD:PUBLISH
X-WR-CALNAME:The Children&#039;s School
X-ORIGINAL-URL:https://www.tcsatl.org
X-WR-CALDESC:Events for The Children&#039;s School
REFRESH-INTERVAL;VALUE=DURATION:PT1H
X-Robots-Tag:noindex
X-PUBLISHED-TTL:PT1H
BEGIN:VTIMEZONE
TZID:America/New_York
BEGIN:DAYLIGHT
TZOFFSETFROM:-0500
TZOFFSETTO:-0400
TZNAME:EDT
DTSTART:20220313T070000
END:DAYLIGHT
BEGIN:STANDARD
TZOFFSETFROM:-0400
TZOFFSETTO:-0500
TZNAME:EST
DTSTART:20221106T060000
END:STANDARD
BEGIN:DAYLIGHT
TZOFFSETFROM:-0500
TZOFFSETTO:-0400
TZNAME:EDT
DTSTART:20230312T070000
END:DAYLIGHT
BEGIN:STANDARD
TZOFFSETFROM:-0400
TZOFFSETTO:-0500
TZNAME:EST
DTSTART:20231105T060000
END:STANDARD
BEGIN:DAYLIGHT
TZOFFSETFROM:-0500
TZOFFSETTO:-0400
TZNAME:EDT
DTSTART:20240310T070000
END:DAYLIGHT
BEGIN:STANDARD
TZOFFSETFROM:-0400
TZOFFSETTO:-0500
TZNAME:EST
DTSTART:20241103T060000
END:STANDARD
END:VTIMEZONE
BEGIN:VEVENT
DTSTART;VALUE=DATE:20230302
DTEND;VALUE=DATE:20230303
DTSTAMP:20260422T063352
CREATED:20220907T181440Z
LAST-MODIFIED:20230302T233120Z
UID:10009608-1677715200-1677801599@www.tcsatl.org
SUMMARY:C Day
DESCRIPTION:
URL:https://www.tcsatl.org/event/c-day-19/
END:VEVENT
BEGIN:VEVENT
DTSTART;TZID=America/New_York:20230302T120000
DTEND;TZID=America/New_York:20230302T130000
DTSTAMP:20260422T063352
CREATED:20230124T210359Z
LAST-MODIFIED:20230301T233114Z
UID:10010051-1677758400-1677762000@www.tcsatl.org
SUMMARY:Ages & Stages: 2nd Grade - via ZOOM
DESCRIPTION:https://tcsatl-org.zoom.us/j/82832946456?pwd=K1FFVXNXampjM1JPU0k0S2puZlB2dz09
URL:https://www.tcsatl.org/event/ages-stages-2nd-grade-via-zoom/
END:VEVENT
BEGIN:VEVENT
DTSTART;TZID=America/New_York:20230302T151500
DTEND;TZID=America/New_York:20230302T163000
DTSTAMP:20260422T063352
CREATED:20220815T164334Z
LAST-MODIFIED:20230203T231457Z
UID:10008915-1677770100-1677774600@www.tcsatl.org
SUMMARY:TCS Voices
DESCRIPTION:
URL:https://www.tcsatl.org/event/tcs-voices-56/
END:VEVENT
BEGIN:VEVENT
DTSTART;TZID=America/New_York:20230302T151500
DTEND;TZID=America/New_York:20230302T163000
DTSTAMP:20260422T063352
CREATED:20230202T232957Z
LAST-MODIFIED:20230302T000007Z
UID:10010101-1677770100-1677774600@www.tcsatl.org
SUMMARY:MAAC Co-Ed Flag Football (5th- 8th Grade)
DESCRIPTION:Carpool 04:30 – 04:45 PM
URL:https://www.tcsatl.org/event/maac-co-ed-flag-football-5th-8th-grade-12/
END:VEVENT
BEGIN:VEVENT
DTSTART;TZID=America/New_York:20230302T151500
DTEND;TZID=America/New_York:20230302T164500
DTSTAMP:20260422T063352
CREATED:20230202T232956Z
LAST-MODIFIED:20230302T000006Z
UID:10010100-1677770100-1677775500@www.tcsatl.org
SUMMARY:Intramural Girls & Boys Basketball (3rd-5th Grade)
DESCRIPTION:Carpool 04:45 – 5:00 PM
URL:https://www.tcsatl.org/event/intramural-girls-boys-basketball-3rd-5th-grade-9/
END:VEVENT
BEGIN:VEVENT
DTSTART;TZID=America/New_York:20230302T160000
DTEND;TZID=America/New_York:20230302T170000
DTSTAMP:20260422T063352
CREATED:20230302T000006Z
LAST-MODIFIED:20230302T000006Z
UID:10009091-1677772800-1677776400@www.tcsatl.org
SUMMARY:AWAY GAME - TRACK & FIELD (6-8th Grade) - Davis Academy
DESCRIPTION:
URL:https://www.tcsatl.org/event/away-game-track-field-6-8th-grade-davis-academy/
LOCATION:The Davis Academy\, 7901 Roberts Dr\, Atlanta\, GA 30350\, USA
END:VEVENT
BEGIN:VEVENT
DTSTART;TZID=America/New_York:20230302T160000
DTEND;TZID=America/New_York:20230302T170000
DTSTAMP:20260422T063352
CREATED:20230302T000007Z
LAST-MODIFIED:20230302T000007Z
UID:10009092-1677772800-1677776400@www.tcsatl.org
SUMMARY:AWAY GAME - TRACK & FIELD (6-8th Grade) - Davis Academy
DESCRIPTION:
URL:https://www.tcsatl.org/event/away-game-track-field-6-8th-grade-davis-academy-2/
LOCATION:The Davis Academy\, 7901 Roberts Dr\, Atlanta\, GA 30350\, USA
END:VEVENT
END:VCALENDAR