BEGIN:VCALENDAR
VERSION:2.0
PRODID:-//The Children&#039;s School - ECPv6.15.15//NONSGML v1.0//EN
CALSCALE:GREGORIAN
METHOD:PUBLISH
X-WR-CALNAME:The Children&#039;s School
X-ORIGINAL-URL:https://www.tcsatl.org
X-WR-CALDESC:Events for The Children&#039;s School
REFRESH-INTERVAL;VALUE=DURATION:PT1H
X-Robots-Tag:noindex
X-PUBLISHED-TTL:PT1H
BEGIN:VTIMEZONE
TZID:America/New_York
BEGIN:DAYLIGHT
TZOFFSETFROM:-0500
TZOFFSETTO:-0400
TZNAME:EDT
DTSTART:20220313T070000
END:DAYLIGHT
BEGIN:STANDARD
TZOFFSETFROM:-0400
TZOFFSETTO:-0500
TZNAME:EST
DTSTART:20221106T060000
END:STANDARD
BEGIN:DAYLIGHT
TZOFFSETFROM:-0500
TZOFFSETTO:-0400
TZNAME:EDT
DTSTART:20230312T070000
END:DAYLIGHT
BEGIN:STANDARD
TZOFFSETFROM:-0400
TZOFFSETTO:-0500
TZNAME:EST
DTSTART:20231105T060000
END:STANDARD
BEGIN:DAYLIGHT
TZOFFSETFROM:-0500
TZOFFSETTO:-0400
TZNAME:EDT
DTSTART:20240310T070000
END:DAYLIGHT
BEGIN:STANDARD
TZOFFSETFROM:-0400
TZOFFSETTO:-0500
TZNAME:EST
DTSTART:20241103T060000
END:STANDARD
END:VTIMEZONE
BEGIN:VEVENT
DTSTART;VALUE=DATE:20230301
DTEND;VALUE=DATE:20230302
DTSTAMP:20260422T004842
CREATED:20220907T181440Z
LAST-MODIFIED:20230301T233114Z
UID:10009607-1677628800-1677715199@www.tcsatl.org
SUMMARY:B Day
DESCRIPTION:
URL:https://www.tcsatl.org/event/b-day-19/
END:VEVENT
BEGIN:VEVENT
DTSTART;TZID=America/New_York:20230301T120000
DTEND;TZID=America/New_York:20230301T130000
DTSTAMP:20260422T004842
CREATED:20230124T210359Z
LAST-MODIFIED:20230228T233048Z
UID:10010050-1677672000-1677675600@www.tcsatl.org
SUMMARY:Ages & Stages: 6th Grade - via ZOOM
DESCRIPTION:https://tcsatl-org.zoom.us/j/82832946456?pwd=K1FFVXNXampjM1JPU0k0S2puZlB2dz09
URL:https://www.tcsatl.org/event/ages-stages-6th-grade-via-zoom/
END:VEVENT
BEGIN:VEVENT
DTSTART;TZID=America/New_York:20230301T151500
DTEND;TZID=America/New_York:20230301T161500
DTSTAMP:20260422T004842
CREATED:20220815T164334Z
LAST-MODIFIED:20230203T231457Z
UID:10008912-1677683700-1677687300@www.tcsatl.org
SUMMARY:TCS Jr. Players
DESCRIPTION:
URL:https://www.tcsatl.org/event/tcs-jr-players-56/
END:VEVENT
BEGIN:VEVENT
DTSTART;TZID=America/New_York:20230301T151500
DTEND;TZID=America/New_York:20230301T163000
DTSTAMP:20260422T004842
CREATED:20220815T164334Z
LAST-MODIFIED:20221120T194948Z
UID:10008913-1677683700-1677688200@www.tcsatl.org
SUMMARY:TCS Players
DESCRIPTION:
URL:https://www.tcsatl.org/event/tcs-players-103/
END:VEVENT
BEGIN:VEVENT
DTSTART;TZID=America/New_York:20230301T151500
DTEND;TZID=America/New_York:20230301T163000
DTSTAMP:20260422T004842
CREATED:20221128T203458Z
LAST-MODIFIED:20230203T231457Z
UID:10010018-1677683700-1677688200@www.tcsatl.org
SUMMARY:TCS Players
DESCRIPTION:
URL:https://www.tcsatl.org/event/tcs-players-155/
END:VEVENT
BEGIN:VEVENT
DTSTART;TZID=America/New_York:20230301T151500
DTEND;TZID=America/New_York:20230301T163000
DTSTAMP:20260422T004842
CREATED:20230202T232956Z
LAST-MODIFIED:20230228T235953Z
UID:10010097-1677683700-1677688200@www.tcsatl.org
SUMMARY:MAAC Boys & Girls Tennis (5th to 8th Grade)
DESCRIPTION:Carpool 4:30-4:45 PM
URL:https://www.tcsatl.org/event/maac-boys-girls-tennis-5th-to-8th-grade-13/
END:VEVENT
BEGIN:VEVENT
DTSTART;TZID=America/New_York:20230301T151500
DTEND;TZID=America/New_York:20230301T164500
DTSTAMP:20260422T004842
CREATED:20230202T232956Z
LAST-MODIFIED:20230228T235953Z
UID:10010098-1677683700-1677689100@www.tcsatl.org
SUMMARY:MAAC Girls & Boys Track & Field (6th to 8th Grade)
DESCRIPTION:Carpool 4:45-5:00 PM
URL:https://www.tcsatl.org/event/maac-girls-boys-track-field-6th-to-8th-grade-12/
END:VEVENT
BEGIN:VEVENT
DTSTART;TZID=America/New_York:20230301T151500
DTEND;TZID=America/New_York:20230301T164500
DTSTAMP:20260422T004842
CREATED:20230202T232956Z
LAST-MODIFIED:20230228T235953Z
UID:10010099-1677683700-1677689100@www.tcsatl.org
SUMMARY:Intramural Girl & Boys Track (3rd -5th Grade)
DESCRIPTION:
URL:https://www.tcsatl.org/event/intramural-girl-boys-track-3rd-5th-grade-9/
END:VEVENT
END:VCALENDAR