BEGIN:VCALENDAR
VERSION:2.0
PRODID:-//The Children&#039;s School - ECPv6.15.15//NONSGML v1.0//EN
CALSCALE:GREGORIAN
METHOD:PUBLISH
X-ORIGINAL-URL:https://www.tcsatl.org
X-WR-CALDESC:Events for The Children&#039;s School
REFRESH-INTERVAL;VALUE=DURATION:PT1H
X-Robots-Tag:noindex
X-PUBLISHED-TTL:PT1H
BEGIN:VTIMEZONE
TZID:America/New_York
BEGIN:DAYLIGHT
TZOFFSETFROM:-0500
TZOFFSETTO:-0400
TZNAME:EDT
DTSTART:20220313T070000
END:DAYLIGHT
BEGIN:STANDARD
TZOFFSETFROM:-0400
TZOFFSETTO:-0500
TZNAME:EST
DTSTART:20221106T060000
END:STANDARD
BEGIN:DAYLIGHT
TZOFFSETFROM:-0500
TZOFFSETTO:-0400
TZNAME:EDT
DTSTART:20230312T070000
END:DAYLIGHT
BEGIN:STANDARD
TZOFFSETFROM:-0400
TZOFFSETTO:-0500
TZNAME:EST
DTSTART:20231105T060000
END:STANDARD
BEGIN:DAYLIGHT
TZOFFSETFROM:-0500
TZOFFSETTO:-0400
TZNAME:EDT
DTSTART:20240310T070000
END:DAYLIGHT
BEGIN:STANDARD
TZOFFSETFROM:-0400
TZOFFSETTO:-0500
TZNAME:EST
DTSTART:20241103T060000
END:STANDARD
END:VTIMEZONE
BEGIN:VEVENT
DTSTART;VALUE=DATE:20230213
DTEND;VALUE=DATE:20230214
DTSTAMP:20260422T095427
CREATED:20220907T181439Z
LAST-MODIFIED:20230213T224457Z
UID:10009599-1676246400-1676332799@www.tcsatl.org
SUMMARY:F Day
DESCRIPTION:
URL:https://www.tcsatl.org/event/f-day-16/
END:VEVENT
BEGIN:VEVENT
DTSTART;TZID=America/New_York:20230213T151500
DTEND;TZID=America/New_York:20230213T163000
DTSTAMP:20260422T095427
CREATED:20220815T164228Z
LAST-MODIFIED:20221120T194947Z
UID:10008886-1676301300-1676305800@www.tcsatl.org
SUMMARY:TCS Players
DESCRIPTION:
URL:https://www.tcsatl.org/event/tcs-players-98/
END:VEVENT
BEGIN:VEVENT
DTSTART;TZID=America/New_York:20230213T151500
DTEND;TZID=America/New_York:20230213T163000
DTSTAMP:20260422T095427
CREATED:20221128T203457Z
LAST-MODIFIED:20230203T231457Z
UID:10010013-1676301300-1676305800@www.tcsatl.org
SUMMARY:TCS Players
DESCRIPTION:
URL:https://www.tcsatl.org/event/tcs-players-150/
END:VEVENT
BEGIN:VEVENT
DTSTART;TZID=America/New_York:20230213T151500
DTEND;TZID=America/New_York:20230213T163000
DTSTAMP:20260422T095427
CREATED:20230202T232953Z
LAST-MODIFIED:20230213T000007Z
UID:10009019-1676301300-1676305800@www.tcsatl.org
SUMMARY:MAAC Boys & Girls Tennis (5th to 8th Grade)
DESCRIPTION:Carpool 4:30-4:45 PM
URL:https://www.tcsatl.org/event/maac-boys-girls-tennis-5th-to-8th-grade-6/
END:VEVENT
BEGIN:VEVENT
DTSTART;TZID=America/New_York:20230213T151500
DTEND;TZID=America/New_York:20230213T164500
DTSTAMP:20260422T095427
CREATED:20230202T232953Z
LAST-MODIFIED:20230213T000007Z
UID:10010078-1676301300-1676306700@www.tcsatl.org
SUMMARY:MAAC Girls & Boys Track & Field (6th to 8th Grade)
DESCRIPTION:Carpool 4:45-5:00 PM
URL:https://www.tcsatl.org/event/maac-girls-boys-track-field-6th-to-8th-grade-5/
END:VEVENT
BEGIN:VEVENT
DTSTART;TZID=America/New_York:20230213T151500
DTEND;TZID=America/New_York:20230213T164500
DTSTAMP:20260422T095427
CREATED:20230202T232953Z
LAST-MODIFIED:20230213T000007Z
UID:10009018-1676301300-1676306700@www.tcsatl.org
SUMMARY:Intramural Girl & Boys Track (3rd -5th Grade)
DESCRIPTION:
URL:https://www.tcsatl.org/event/intramural-girl-boys-track-3rd-5th-grade-4/
END:VEVENT
END:VCALENDAR