BEGIN:VCALENDAR
VERSION:2.0
PRODID:-//The Children&#039;s School - ECPv6.15.15//NONSGML v1.0//EN
CALSCALE:GREGORIAN
METHOD:PUBLISH
X-WR-CALNAME:The Children&#039;s School
X-ORIGINAL-URL:https://www.tcsatl.org
X-WR-CALDESC:Events for The Children&#039;s School
REFRESH-INTERVAL;VALUE=DURATION:PT1H
X-Robots-Tag:noindex
X-PUBLISHED-TTL:PT1H
BEGIN:VTIMEZONE
TZID:America/New_York
BEGIN:DAYLIGHT
TZOFFSETFROM:-0500
TZOFFSETTO:-0400
TZNAME:EDT
DTSTART:20220313T070000
END:DAYLIGHT
BEGIN:STANDARD
TZOFFSETFROM:-0400
TZOFFSETTO:-0500
TZNAME:EST
DTSTART:20221106T060000
END:STANDARD
BEGIN:DAYLIGHT
TZOFFSETFROM:-0500
TZOFFSETTO:-0400
TZNAME:EDT
DTSTART:20230312T070000
END:DAYLIGHT
BEGIN:STANDARD
TZOFFSETFROM:-0400
TZOFFSETTO:-0500
TZNAME:EST
DTSTART:20231105T060000
END:STANDARD
BEGIN:DAYLIGHT
TZOFFSETFROM:-0500
TZOFFSETTO:-0400
TZNAME:EDT
DTSTART:20240310T070000
END:DAYLIGHT
BEGIN:STANDARD
TZOFFSETFROM:-0400
TZOFFSETTO:-0500
TZNAME:EST
DTSTART:20241103T060000
END:STANDARD
END:VTIMEZONE
BEGIN:VEVENT
DTSTART;VALUE=DATE:20230130
DTEND;VALUE=DATE:20230204
DTSTAMP:20260422T081447
CREATED:20230111T224909Z
LAST-MODIFIED:20230203T233044Z
UID:10010042-1675036800-1675468799@www.tcsatl.org
SUMMARY:MAAC Boys Basketball Championship
DESCRIPTION:
URL:https://www.tcsatl.org/event/maac-boys-basketball-championship/
END:VEVENT
BEGIN:VEVENT
DTSTART;VALUE=DATE:20230202
DTEND;VALUE=DATE:20230203
DTSTAMP:20260422T081447
CREATED:20220907T181438Z
LAST-MODIFIED:20230202T215951Z
UID:10009593-1675296000-1675382399@www.tcsatl.org
SUMMARY:E Day
DESCRIPTION:
URL:https://www.tcsatl.org/event/e-day-16/
END:VEVENT
BEGIN:VEVENT
DTSTART;TZID=America/New_York:20230202T120000
DTEND;TZID=America/New_York:20230202T130000
DTSTAMP:20260422T081447
CREATED:20230124T210356Z
LAST-MODIFIED:20230201T214447Z
UID:10010045-1675339200-1675342800@www.tcsatl.org
SUMMARY:Ages & Stages: Kindergarten - via ZOOM
DESCRIPTION:https://tcsatl-org.zoom.us/j/82832946456?pwd=K1FFVXNXampjM1JPU0k0S2puZlB2dz09
URL:https://www.tcsatl.org/event/ages-stages-kindergarten-via-zoom/
END:VEVENT
BEGIN:VEVENT
DTSTART;TZID=America/New_York:20230202T151500
DTEND;TZID=America/New_York:20230202T163000
DTSTAMP:20260422T081447
CREATED:20220815T164226Z
LAST-MODIFIED:20230201T225955Z
UID:10008874-1675350900-1675355400@www.tcsatl.org
SUMMARY:TCS Voices
DESCRIPTION:
URL:https://www.tcsatl.org/event/tcs-voices-52/
END:VEVENT
END:VCALENDAR