BEGIN:VCALENDAR
VERSION:2.0
PRODID:-//The Children&#039;s School - ECPv6.15.15//NONSGML v1.0//EN
CALSCALE:GREGORIAN
METHOD:PUBLISH
X-ORIGINAL-URL:https://www.tcsatl.org
X-WR-CALDESC:Events for The Children&#039;s School
REFRESH-INTERVAL;VALUE=DURATION:PT1H
X-Robots-Tag:noindex
X-PUBLISHED-TTL:PT1H
BEGIN:VTIMEZONE
TZID:America/New_York
BEGIN:DAYLIGHT
TZOFFSETFROM:-0500
TZOFFSETTO:-0400
TZNAME:EDT
DTSTART:20220313T070000
END:DAYLIGHT
BEGIN:STANDARD
TZOFFSETFROM:-0400
TZOFFSETTO:-0500
TZNAME:EST
DTSTART:20221106T060000
END:STANDARD
BEGIN:DAYLIGHT
TZOFFSETFROM:-0500
TZOFFSETTO:-0400
TZNAME:EDT
DTSTART:20230312T070000
END:DAYLIGHT
BEGIN:STANDARD
TZOFFSETFROM:-0400
TZOFFSETTO:-0500
TZNAME:EST
DTSTART:20231105T060000
END:STANDARD
BEGIN:DAYLIGHT
TZOFFSETFROM:-0500
TZOFFSETTO:-0400
TZNAME:EDT
DTSTART:20240310T070000
END:DAYLIGHT
BEGIN:STANDARD
TZOFFSETFROM:-0400
TZOFFSETTO:-0500
TZNAME:EST
DTSTART:20241103T060000
END:STANDARD
END:VTIMEZONE
BEGIN:VEVENT
DTSTART;VALUE=DATE:20230125
DTEND;VALUE=DATE:20230126
DTSTAMP:20260422T184307
CREATED:20220907T181437Z
LAST-MODIFIED:20230125T210403Z
UID:10009586-1674604800-1674691199@www.tcsatl.org
SUMMARY:E Day
DESCRIPTION:
URL:https://www.tcsatl.org/event/e-day-15/
END:VEVENT
BEGIN:VEVENT
DTSTART;TZID=America/New_York:20230125T151500
DTEND;TZID=America/New_York:20230125T161500
DTSTAMP:20260422T184307
CREATED:20220815T164225Z
LAST-MODIFIED:20230124T223353Z
UID:10008860-1674659700-1674663300@www.tcsatl.org
SUMMARY:TCS Jr. Players
DESCRIPTION:
URL:https://www.tcsatl.org/event/tcs-jr-players-51/
END:VEVENT
BEGIN:VEVENT
DTSTART;TZID=America/New_York:20230125T151500
DTEND;TZID=America/New_York:20230125T163000
DTSTAMP:20260422T184307
CREATED:20220815T164225Z
LAST-MODIFIED:20221120T194946Z
UID:10008858-1674659700-1674664200@www.tcsatl.org
SUMMARY:TCS Players
DESCRIPTION:
URL:https://www.tcsatl.org/event/tcs-players-93/
END:VEVENT
BEGIN:VEVENT
DTSTART;TZID=America/New_York:20230125T151500
DTEND;TZID=America/New_York:20230125T163000
DTSTAMP:20260422T184307
CREATED:20221128T203455Z
LAST-MODIFIED:20230124T223353Z
UID:10010008-1674659700-1674664200@www.tcsatl.org
SUMMARY:TCS Players
DESCRIPTION:
URL:https://www.tcsatl.org/event/tcs-players-145/
END:VEVENT
END:VCALENDAR