BEGIN:VCALENDAR
VERSION:2.0
PRODID:-//The Children&#039;s School - ECPv6.15.15//NONSGML v1.0//EN
CALSCALE:GREGORIAN
METHOD:PUBLISH
X-WR-CALNAME:The Children&#039;s School
X-ORIGINAL-URL:https://www.tcsatl.org
X-WR-CALDESC:Events for The Children&#039;s School
REFRESH-INTERVAL;VALUE=DURATION:PT1H
X-Robots-Tag:noindex
X-PUBLISHED-TTL:PT1H
BEGIN:VTIMEZONE
TZID:America/New_York
BEGIN:DAYLIGHT
TZOFFSETFROM:-0500
TZOFFSETTO:-0400
TZNAME:EDT
DTSTART:20220313T070000
END:DAYLIGHT
BEGIN:STANDARD
TZOFFSETFROM:-0400
TZOFFSETTO:-0500
TZNAME:EST
DTSTART:20221106T060000
END:STANDARD
BEGIN:DAYLIGHT
TZOFFSETFROM:-0500
TZOFFSETTO:-0400
TZNAME:EDT
DTSTART:20230312T070000
END:DAYLIGHT
BEGIN:STANDARD
TZOFFSETFROM:-0400
TZOFFSETTO:-0500
TZNAME:EST
DTSTART:20231105T060000
END:STANDARD
BEGIN:DAYLIGHT
TZOFFSETFROM:-0500
TZOFFSETTO:-0400
TZNAME:EDT
DTSTART:20240310T070000
END:DAYLIGHT
BEGIN:STANDARD
TZOFFSETFROM:-0400
TZOFFSETTO:-0500
TZNAME:EST
DTSTART:20241103T060000
END:STANDARD
END:VTIMEZONE
BEGIN:VEVENT
DTSTART;VALUE=DATE:20230118
DTEND;VALUE=DATE:20230119
DTSTAMP:20260422T184226
CREATED:20220907T181437Z
LAST-MODIFIED:20230118T203406Z
UID:10009581-1674000000-1674086399@www.tcsatl.org
SUMMARY:F Day
DESCRIPTION:
URL:https://www.tcsatl.org/event/f-day-13/
END:VEVENT
BEGIN:VEVENT
DTSTART;TZID=America/New_York:20230118T074500
DTEND;TZID=America/New_York:20230118T090000
DTSTAMP:20260422T184226
CREATED:20221128T200352Z
LAST-MODIFIED:20230117T224936Z
UID:10009757-1674027900-1674032400@www.tcsatl.org
SUMMARY:MAAC Girls Basketball (5th-8th Grade)
DESCRIPTION:
URL:https://www.tcsatl.org/event/maac-girls-basketball-5th-8th-grade-23/
END:VEVENT
BEGIN:VEVENT
DTSTART;TZID=America/New_York:20230118T151500
DTEND;TZID=America/New_York:20230118T161500
DTSTAMP:20260422T184226
CREATED:20220815T164224Z
LAST-MODIFIED:20230117T223347Z
UID:10008841-1674054900-1674058500@www.tcsatl.org
SUMMARY:TCS Jr. Players
DESCRIPTION:
URL:https://www.tcsatl.org/event/tcs-jr-players-50/
END:VEVENT
BEGIN:VEVENT
DTSTART;TZID=America/New_York:20230118T151500
DTEND;TZID=America/New_York:20230118T163000
DTSTAMP:20260422T184226
CREATED:20220815T164225Z
LAST-MODIFIED:20221120T194946Z
UID:10008845-1674054900-1674059400@www.tcsatl.org
SUMMARY:TCS Players
DESCRIPTION:
URL:https://www.tcsatl.org/event/tcs-players-91/
END:VEVENT
BEGIN:VEVENT
DTSTART;TZID=America/New_York:20230118T151500
DTEND;TZID=America/New_York:20230118T163000
DTSTAMP:20260422T184226
CREATED:20221128T200353Z
LAST-MODIFIED:20230117T224936Z
UID:10009758-1674054900-1674059400@www.tcsatl.org
SUMMARY:Intramural Co-Ed Tennis (3rd-5th)
DESCRIPTION:
URL:https://www.tcsatl.org/event/intramural-co-ed-tennis-3rd-5th-34/
END:VEVENT
BEGIN:VEVENT
DTSTART;TZID=America/New_York:20230118T151500
DTEND;TZID=America/New_York:20230118T163000
DTSTAMP:20260422T184226
CREATED:20221128T203455Z
LAST-MODIFIED:20230117T223346Z
UID:10010006-1674054900-1674059400@www.tcsatl.org
SUMMARY:TCS Players
DESCRIPTION:
URL:https://www.tcsatl.org/event/tcs-players-143/
END:VEVENT
END:VCALENDAR