BEGIN:VCALENDAR
VERSION:2.0
PRODID:-//The Children&#039;s School - ECPv6.15.15//NONSGML v1.0//EN
CALSCALE:GREGORIAN
METHOD:PUBLISH
X-WR-CALNAME:The Children&#039;s School
X-ORIGINAL-URL:https://www.tcsatl.org
X-WR-CALDESC:Events for The Children&#039;s School
REFRESH-INTERVAL;VALUE=DURATION:PT1H
X-Robots-Tag:noindex
X-PUBLISHED-TTL:PT1H
BEGIN:VTIMEZONE
TZID:America/New_York
BEGIN:DAYLIGHT
TZOFFSETFROM:-0500
TZOFFSETTO:-0400
TZNAME:EDT
DTSTART:20220313T070000
END:DAYLIGHT
BEGIN:STANDARD
TZOFFSETFROM:-0400
TZOFFSETTO:-0500
TZNAME:EST
DTSTART:20221106T060000
END:STANDARD
BEGIN:DAYLIGHT
TZOFFSETFROM:-0500
TZOFFSETTO:-0400
TZNAME:EDT
DTSTART:20230312T070000
END:DAYLIGHT
BEGIN:STANDARD
TZOFFSETFROM:-0400
TZOFFSETTO:-0500
TZNAME:EST
DTSTART:20231105T060000
END:STANDARD
BEGIN:DAYLIGHT
TZOFFSETFROM:-0500
TZOFFSETTO:-0400
TZNAME:EDT
DTSTART:20240310T070000
END:DAYLIGHT
BEGIN:STANDARD
TZOFFSETFROM:-0400
TZOFFSETTO:-0500
TZNAME:EST
DTSTART:20241103T060000
END:STANDARD
END:VTIMEZONE
BEGIN:VEVENT
DTSTART;VALUE=DATE:20230113
DTEND;VALUE=DATE:20230114
DTSTAMP:20260422T184224
CREATED:20220907T181436Z
LAST-MODIFIED:20230113T201909Z
UID:10009575-1673568000-1673654399@www.tcsatl.org
SUMMARY:D Day
DESCRIPTION:
URL:https://www.tcsatl.org/event/d-day-13/
END:VEVENT
BEGIN:VEVENT
DTSTART;TZID=America/New_York:20230113T151500
DTEND;TZID=America/New_York:20230113T163000
DTSTAMP:20260422T184224
CREATED:20221128T200352Z
LAST-MODIFIED:20230112T224858Z
UID:10009750-1673622900-1673627400@www.tcsatl.org
SUMMARY:MAAC Boys Basketball (5th - 8th Grade)
DESCRIPTION:
URL:https://www.tcsatl.org/event/maac-boys-basketball-5th-8th-grade-21/
END:VEVENT
BEGIN:VEVENT
DTSTART;TZID=America/New_York:20230113T153000
DTEND;TZID=America/New_York:20230113T163000
DTSTAMP:20260422T184224
CREATED:20221128T200352Z
LAST-MODIFIED:20230112T224858Z
UID:10009752-1673623800-1673627400@www.tcsatl.org
SUMMARY:MAAC Girls Basketball (5th-8th Grade)
DESCRIPTION:
URL:https://www.tcsatl.org/event/maac-girls-basketball-5th-8th-grade-21/
END:VEVENT
END:VCALENDAR