BEGIN:VCALENDAR
VERSION:2.0
PRODID:-//The Children&#039;s School - ECPv6.15.15//NONSGML v1.0//EN
CALSCALE:GREGORIAN
METHOD:PUBLISH
X-ORIGINAL-URL:https://www.tcsatl.org
X-WR-CALDESC:Events for The Children&#039;s School
REFRESH-INTERVAL;VALUE=DURATION:PT1H
X-Robots-Tag:noindex
X-PUBLISHED-TTL:PT1H
BEGIN:VTIMEZONE
TZID:America/New_York
BEGIN:DAYLIGHT
TZOFFSETFROM:-0500
TZOFFSETTO:-0400
TZNAME:EDT
DTSTART:20220313T070000
END:DAYLIGHT
BEGIN:STANDARD
TZOFFSETFROM:-0400
TZOFFSETTO:-0500
TZNAME:EST
DTSTART:20221106T060000
END:STANDARD
BEGIN:DAYLIGHT
TZOFFSETFROM:-0500
TZOFFSETTO:-0400
TZNAME:EDT
DTSTART:20230312T070000
END:DAYLIGHT
BEGIN:STANDARD
TZOFFSETFROM:-0400
TZOFFSETTO:-0500
TZNAME:EST
DTSTART:20231105T060000
END:STANDARD
BEGIN:DAYLIGHT
TZOFFSETFROM:-0500
TZOFFSETTO:-0400
TZNAME:EDT
DTSTART:20240310T070000
END:DAYLIGHT
BEGIN:STANDARD
TZOFFSETFROM:-0400
TZOFFSETTO:-0500
TZNAME:EST
DTSTART:20241103T060000
END:STANDARD
END:VTIMEZONE
BEGIN:VEVENT
DTSTART;VALUE=DATE:20230111
DTEND;VALUE=DATE:20230112
DTSTAMP:20260422T133148
CREATED:20220907T181436Z
LAST-MODIFIED:20230111T201914Z
UID:10009577-1673395200-1673481599@www.tcsatl.org
SUMMARY:B Day
DESCRIPTION:
URL:https://www.tcsatl.org/event/b-day-14/
END:VEVENT
BEGIN:VEVENT
DTSTART;TZID=America/New_York:20230111T074500
DTEND;TZID=America/New_York:20230111T090000
DTSTAMP:20260422T133148
CREATED:20221128T200351Z
LAST-MODIFIED:20230110T224850Z
UID:10009746-1673423100-1673427600@www.tcsatl.org
SUMMARY:MAAC Girls Basketball (5th-8th Grade)
DESCRIPTION:
URL:https://www.tcsatl.org/event/maac-girls-basketball-5th-8th-grade-20/
END:VEVENT
BEGIN:VEVENT
DTSTART;TZID=America/New_York:20230111T120000
DTEND;TZID=America/New_York:20230111T130000
DTSTAMP:20260422T133148
CREATED:20220901T181252Z
LAST-MODIFIED:20230110T201655Z
UID:10009462-1673438400-1673442000@www.tcsatl.org
SUMMARY:PA Meeting - via ZOOM
DESCRIPTION:Zoom Link
URL:https://www.tcsatl.org/event/pa-meeting-via-zoom-4/
END:VEVENT
BEGIN:VEVENT
DTSTART;TZID=America/New_York:20230111T151500
DTEND;TZID=America/New_York:20230111T161500
DTSTAMP:20260422T133148
CREATED:20220815T164224Z
LAST-MODIFIED:20230110T221952Z
UID:10008827-1673450100-1673453700@www.tcsatl.org
SUMMARY:TCS Jr. Players
DESCRIPTION:
URL:https://www.tcsatl.org/event/tcs-jr-players-49/
END:VEVENT
BEGIN:VEVENT
DTSTART;TZID=America/New_York:20230111T151500
DTEND;TZID=America/New_York:20230111T163000
DTSTAMP:20260422T133148
CREATED:20220815T164224Z
LAST-MODIFIED:20221120T194946Z
UID:10008830-1673450100-1673454600@www.tcsatl.org
SUMMARY:TCS Players
DESCRIPTION:
URL:https://www.tcsatl.org/event/tcs-players-89/
END:VEVENT
BEGIN:VEVENT
DTSTART;TZID=America/New_York:20230111T151500
DTEND;TZID=America/New_York:20230111T163000
DTSTAMP:20260422T133148
CREATED:20221128T200351Z
LAST-MODIFIED:20230110T224850Z
UID:10009747-1673450100-1673454600@www.tcsatl.org
SUMMARY:Intramural Co-Ed Tennis (3rd-5th)
DESCRIPTION:
URL:https://www.tcsatl.org/event/intramural-co-ed-tennis-3rd-5th-32/
END:VEVENT
BEGIN:VEVENT
DTSTART;TZID=America/New_York:20230111T151500
DTEND;TZID=America/New_York:20230111T163000
DTSTAMP:20260422T133148
CREATED:20221128T203454Z
LAST-MODIFIED:20230110T221952Z
UID:10010004-1673450100-1673454600@www.tcsatl.org
SUMMARY:TCS Players
DESCRIPTION:
URL:https://www.tcsatl.org/event/tcs-players-141/
END:VEVENT
END:VCALENDAR