BEGIN:VCALENDAR
VERSION:2.0
PRODID:-//The Children&#039;s School - ECPv6.15.15//NONSGML v1.0//EN
CALSCALE:GREGORIAN
METHOD:PUBLISH
X-WR-CALNAME:The Children&#039;s School
X-ORIGINAL-URL:https://www.tcsatl.org
X-WR-CALDESC:Events for The Children&#039;s School
REFRESH-INTERVAL;VALUE=DURATION:PT1H
X-Robots-Tag:noindex
X-PUBLISHED-TTL:PT1H
BEGIN:VTIMEZONE
TZID:America/New_York
BEGIN:DAYLIGHT
TZOFFSETFROM:-0500
TZOFFSETTO:-0400
TZNAME:EDT
DTSTART:20210314T070000
END:DAYLIGHT
BEGIN:STANDARD
TZOFFSETFROM:-0400
TZOFFSETTO:-0500
TZNAME:EST
DTSTART:20211107T060000
END:STANDARD
BEGIN:DAYLIGHT
TZOFFSETFROM:-0500
TZOFFSETTO:-0400
TZNAME:EDT
DTSTART:20220313T070000
END:DAYLIGHT
BEGIN:STANDARD
TZOFFSETFROM:-0400
TZOFFSETTO:-0500
TZNAME:EST
DTSTART:20221106T060000
END:STANDARD
BEGIN:DAYLIGHT
TZOFFSETFROM:-0500
TZOFFSETTO:-0400
TZNAME:EDT
DTSTART:20230312T070000
END:DAYLIGHT
BEGIN:STANDARD
TZOFFSETFROM:-0400
TZOFFSETTO:-0500
TZNAME:EST
DTSTART:20231105T060000
END:STANDARD
END:VTIMEZONE
BEGIN:VEVENT
DTSTART;VALUE=DATE:20221219
DTEND;VALUE=DATE:20221231
DTSTAMP:20260422T184216
CREATED:20220728T163345Z
LAST-MODIFIED:20221230T204935Z
UID:10008543-1671408000-1672444799@www.tcsatl.org
SUMMARY:Winter Break
DESCRIPTION:
URL:https://www.tcsatl.org/event/winter-break-4/
END:VEVENT
BEGIN:VEVENT
DTSTART;TZID=America/New_York:20221228T074500
DTEND;TZID=America/New_York:20221228T090000
DTSTAMP:20260422T184216
CREATED:20221128T200349Z
LAST-MODIFIED:20221206T203402Z
UID:10009724-1672213500-1672218000@www.tcsatl.org
SUMMARY:MAAC Girls Basketball (5th-8th Grade)
DESCRIPTION:
URL:https://www.tcsatl.org/event/maac-girls-basketball-5th-8th-grade-14/
END:VEVENT
BEGIN:VEVENT
DTSTART;TZID=America/New_York:20221228T151500
DTEND;TZID=America/New_York:20221228T161500
DTSTAMP:20260422T184216
CREATED:20220815T164222Z
LAST-MODIFIED:20221206T210534Z
UID:10008817-1672240500-1672244100@www.tcsatl.org
SUMMARY:TCS Jr. Players
DESCRIPTION:
URL:https://www.tcsatl.org/event/tcs-jr-players-47/
END:VEVENT
BEGIN:VEVENT
DTSTART;TZID=America/New_York:20221228T151500
DTEND;TZID=America/New_York:20221228T163000
DTSTAMP:20260422T184216
CREATED:20220815T164222Z
LAST-MODIFIED:20221120T194945Z
UID:10008818-1672240500-1672245000@www.tcsatl.org
SUMMARY:TCS Players
DESCRIPTION:
URL:https://www.tcsatl.org/event/tcs-players-85/
END:VEVENT
BEGIN:VEVENT
DTSTART;TZID=America/New_York:20221228T151500
DTEND;TZID=America/New_York:20221228T163000
DTSTAMP:20260422T184216
CREATED:20221128T200349Z
LAST-MODIFIED:20221206T203402Z
UID:10009725-1672240500-1672245000@www.tcsatl.org
SUMMARY:Intramural Co-Ed Tennis (3rd-5th)
DESCRIPTION:
URL:https://www.tcsatl.org/event/intramural-co-ed-tennis-3rd-5th-28/
END:VEVENT
BEGIN:VEVENT
DTSTART;TZID=America/New_York:20221228T151500
DTEND;TZID=America/New_York:20221228T163000
DTSTAMP:20260422T184216
CREATED:20221128T203453Z
LAST-MODIFIED:20221206T210534Z
UID:10008942-1672240500-1672245000@www.tcsatl.org
SUMMARY:TCS Players
DESCRIPTION:
URL:https://www.tcsatl.org/event/tcs-players-137/
END:VEVENT
END:VCALENDAR