BEGIN:VCALENDAR
VERSION:2.0
PRODID:-//The Children&#039;s School - ECPv6.15.15//NONSGML v1.0//EN
CALSCALE:GREGORIAN
METHOD:PUBLISH
X-ORIGINAL-URL:https://www.tcsatl.org
X-WR-CALDESC:Events for The Children&#039;s School
REFRESH-INTERVAL;VALUE=DURATION:PT1H
X-Robots-Tag:noindex
X-PUBLISHED-TTL:PT1H
BEGIN:VTIMEZONE
TZID:America/New_York
BEGIN:DAYLIGHT
TZOFFSETFROM:-0500
TZOFFSETTO:-0400
TZNAME:EDT
DTSTART:20210314T070000
END:DAYLIGHT
BEGIN:STANDARD
TZOFFSETFROM:-0400
TZOFFSETTO:-0500
TZNAME:EST
DTSTART:20211107T060000
END:STANDARD
BEGIN:DAYLIGHT
TZOFFSETFROM:-0500
TZOFFSETTO:-0400
TZNAME:EDT
DTSTART:20220313T070000
END:DAYLIGHT
BEGIN:STANDARD
TZOFFSETFROM:-0400
TZOFFSETTO:-0500
TZNAME:EST
DTSTART:20221106T060000
END:STANDARD
BEGIN:DAYLIGHT
TZOFFSETFROM:-0500
TZOFFSETTO:-0400
TZNAME:EDT
DTSTART:20230312T070000
END:DAYLIGHT
BEGIN:STANDARD
TZOFFSETFROM:-0400
TZOFFSETTO:-0500
TZNAME:EST
DTSTART:20231105T060000
END:STANDARD
END:VTIMEZONE
BEGIN:VEVENT
DTSTART;VALUE=DATE:20221219
DTEND;VALUE=DATE:20221231
DTSTAMP:20260422T184547
CREATED:20220728T163345Z
LAST-MODIFIED:20221230T204935Z
UID:10008543-1671408000-1672444799@www.tcsatl.org
SUMMARY:Winter Break
DESCRIPTION:
URL:https://www.tcsatl.org/event/winter-break-4/
END:VEVENT
BEGIN:VEVENT
DTSTART;TZID=America/New_York:20221221T074500
DTEND;TZID=America/New_York:20221221T090000
DTSTAMP:20260422T184547
CREATED:20221128T200347Z
LAST-MODIFIED:20221206T203424Z
UID:10009713-1671608700-1671613200@www.tcsatl.org
SUMMARY:MAAC Girls Basketball (5th-8th Grade)
DESCRIPTION:
URL:https://www.tcsatl.org/event/maac-girls-basketball-5th-8th-grade-11/
END:VEVENT
BEGIN:VEVENT
DTSTART;TZID=America/New_York:20221221T151500
DTEND;TZID=America/New_York:20221221T161500
DTSTAMP:20260422T184547
CREATED:20220815T164221Z
LAST-MODIFIED:20221206T210534Z
UID:10008812-1671635700-1671639300@www.tcsatl.org
SUMMARY:TCS Jr. Players
DESCRIPTION:
URL:https://www.tcsatl.org/event/tcs-jr-players-46/
END:VEVENT
BEGIN:VEVENT
DTSTART;TZID=America/New_York:20221221T151500
DTEND;TZID=America/New_York:20221221T163000
DTSTAMP:20260422T184547
CREATED:20220815T164221Z
LAST-MODIFIED:20221120T194945Z
UID:10008813-1671635700-1671640200@www.tcsatl.org
SUMMARY:TCS Players
DESCRIPTION:
URL:https://www.tcsatl.org/event/tcs-players-83/
END:VEVENT
BEGIN:VEVENT
DTSTART;TZID=America/New_York:20221221T151500
DTEND;TZID=America/New_York:20221221T163000
DTSTAMP:20260422T184547
CREATED:20221128T200347Z
LAST-MODIFIED:20221206T203424Z
UID:10009714-1671635700-1671640200@www.tcsatl.org
SUMMARY:Intramural Co-Ed Tennis (3rd-5th)
DESCRIPTION:
URL:https://www.tcsatl.org/event/intramural-co-ed-tennis-3rd-5th-26/
END:VEVENT
BEGIN:VEVENT
DTSTART;TZID=America/New_York:20221221T151500
DTEND;TZID=America/New_York:20221221T163000
DTSTAMP:20260422T184547
CREATED:20221128T203452Z
LAST-MODIFIED:20221206T210534Z
UID:10008940-1671635700-1671640200@www.tcsatl.org
SUMMARY:TCS Players
DESCRIPTION:
URL:https://www.tcsatl.org/event/tcs-players-135/
END:VEVENT
END:VCALENDAR