BEGIN:VCALENDAR
VERSION:2.0
PRODID:-//The Children&#039;s School - ECPv6.15.15//NONSGML v1.0//EN
CALSCALE:GREGORIAN
METHOD:PUBLISH
X-WR-CALNAME:The Children&#039;s School
X-ORIGINAL-URL:https://www.tcsatl.org
X-WR-CALDESC:Events for The Children&#039;s School
REFRESH-INTERVAL;VALUE=DURATION:PT1H
X-Robots-Tag:noindex
X-PUBLISHED-TTL:PT1H
BEGIN:VTIMEZONE
TZID:America/New_York
BEGIN:DAYLIGHT
TZOFFSETFROM:-0500
TZOFFSETTO:-0400
TZNAME:EDT
DTSTART:20210314T070000
END:DAYLIGHT
BEGIN:STANDARD
TZOFFSETFROM:-0400
TZOFFSETTO:-0500
TZNAME:EST
DTSTART:20211107T060000
END:STANDARD
BEGIN:DAYLIGHT
TZOFFSETFROM:-0500
TZOFFSETTO:-0400
TZNAME:EDT
DTSTART:20220313T070000
END:DAYLIGHT
BEGIN:STANDARD
TZOFFSETFROM:-0400
TZOFFSETTO:-0500
TZNAME:EST
DTSTART:20221106T060000
END:STANDARD
BEGIN:DAYLIGHT
TZOFFSETFROM:-0500
TZOFFSETTO:-0400
TZNAME:EDT
DTSTART:20230312T070000
END:DAYLIGHT
BEGIN:STANDARD
TZOFFSETFROM:-0400
TZOFFSETTO:-0500
TZNAME:EST
DTSTART:20231105T060000
END:STANDARD
END:VTIMEZONE
BEGIN:VEVENT
DTSTART;VALUE=DATE:20221128
DTEND;VALUE=DATE:20221129
DTSTAMP:20260422T184216
CREATED:20220728T163345Z
LAST-MODIFIED:20221128T191849Z
UID:10008541-1669593600-1669679999@www.tcsatl.org
SUMMARY:Students Return From Thanksgiving Break
DESCRIPTION:
URL:https://www.tcsatl.org/event/students-return-from-thanksgiving-break-3/
END:VEVENT
BEGIN:VEVENT
DTSTART;VALUE=DATE:20221128
DTEND;VALUE=DATE:20221129
DTSTAMP:20260422T184216
CREATED:20220907T181434Z
LAST-MODIFIED:20221128T191849Z
UID:10009558-1669593600-1669679999@www.tcsatl.org
SUMMARY:F Day
DESCRIPTION:
URL:https://www.tcsatl.org/event/f-day-9/
END:VEVENT
BEGIN:VEVENT
DTSTART;TZID=America/New_York:20221128T151500
DTEND;TZID=America/New_York:20221128T161500
DTSTAMP:20260422T184216
CREATED:20220815T164216Z
LAST-MODIFIED:20221128T203448Z
UID:10008779-1669648500-1669652100@www.tcsatl.org
SUMMARY:Bricks4Kidz
DESCRIPTION:
URL:https://www.tcsatl.org/event/bricks4kidz-17/
END:VEVENT
BEGIN:VEVENT
DTSTART;TZID=America/New_York:20221128T151500
DTEND;TZID=America/New_York:20221128T163000
DTSTAMP:20260422T184216
CREATED:20220815T164216Z
LAST-MODIFIED:20221120T194943Z
UID:10008778-1669648500-1669653000@www.tcsatl.org
SUMMARY:TCS Players
DESCRIPTION:
URL:https://www.tcsatl.org/event/tcs-players-76/
END:VEVENT
BEGIN:VEVENT
DTSTART;TZID=America/New_York:20221128T151500
DTEND;TZID=America/New_York:20221128T163000
DTSTAMP:20260422T184216
CREATED:20221128T200343Z
LAST-MODIFIED:20221128T200343Z
UID:10009677-1669648500-1669653000@www.tcsatl.org
SUMMARY:MAAC Boys Basketball (5th - 8th Grade)
DESCRIPTION:
URL:https://www.tcsatl.org/event/maac-boys-basketball-5th-8th-grade/
END:VEVENT
BEGIN:VEVENT
DTSTART;TZID=America/New_York:20221128T151500
DTEND;TZID=America/New_York:20221128T163000
DTSTAMP:20260422T184216
CREATED:20221128T203448Z
LAST-MODIFIED:20221128T203448Z
UID:10009995-1669648500-1669653000@www.tcsatl.org
SUMMARY:TCS Players
DESCRIPTION:
URL:https://www.tcsatl.org/event/tcs-players-128/
END:VEVENT
END:VCALENDAR