BEGIN:VCALENDAR
VERSION:2.0
PRODID:-//The Children&#039;s School - ECPv6.15.15//NONSGML v1.0//EN
CALSCALE:GREGORIAN
METHOD:PUBLISH
X-ORIGINAL-URL:https://www.tcsatl.org
X-WR-CALDESC:Events for The Children&#039;s School
REFRESH-INTERVAL;VALUE=DURATION:PT1H
X-Robots-Tag:noindex
X-PUBLISHED-TTL:PT1H
BEGIN:VTIMEZONE
TZID:America/New_York
BEGIN:DAYLIGHT
TZOFFSETFROM:-0500
TZOFFSETTO:-0400
TZNAME:EDT
DTSTART:20210314T070000
END:DAYLIGHT
BEGIN:STANDARD
TZOFFSETFROM:-0400
TZOFFSETTO:-0500
TZNAME:EST
DTSTART:20211107T060000
END:STANDARD
BEGIN:DAYLIGHT
TZOFFSETFROM:-0500
TZOFFSETTO:-0400
TZNAME:EDT
DTSTART:20220313T070000
END:DAYLIGHT
BEGIN:STANDARD
TZOFFSETFROM:-0400
TZOFFSETTO:-0500
TZNAME:EST
DTSTART:20221106T060000
END:STANDARD
BEGIN:DAYLIGHT
TZOFFSETFROM:-0500
TZOFFSETTO:-0400
TZNAME:EDT
DTSTART:20230312T070000
END:DAYLIGHT
BEGIN:STANDARD
TZOFFSETFROM:-0400
TZOFFSETTO:-0500
TZNAME:EST
DTSTART:20231105T060000
END:STANDARD
END:VTIMEZONE
BEGIN:VEVENT
DTSTART;VALUE=DATE:20221103
DTEND;VALUE=DATE:20221104
DTSTAMP:20260422T184553
CREATED:20220907T181432Z
LAST-MODIFIED:20221103T181357Z
UID:10009546-1667433600-1667519999@www.tcsatl.org
SUMMARY:A Day
DESCRIPTION:
URL:https://www.tcsatl.org/event/a-day-7/
END:VEVENT
BEGIN:VEVENT
DTSTART;TZID=America/New_York:20221103T074500
DTEND;TZID=America/New_York:20221103T093000
DTSTAMP:20260422T184553
CREATED:20220914T182839Z
LAST-MODIFIED:20221102T181312Z
UID:10009663-1667461500-1667467800@www.tcsatl.org
SUMMARY:Bike to School Day - Front of School and Basketball Court
DESCRIPTION:
URL:https://www.tcsatl.org/event/bike-to-school-day-front-of-school-and-basketball-court/
END:VEVENT
BEGIN:VEVENT
DTSTART;TZID=America/New_York:20221103T151500
DTEND;TZID=America/New_York:20221103T161500
DTSTAMP:20260422T184553
CREATED:20220815T164207Z
LAST-MODIFIED:20221103T184305Z
UID:10008733-1667488500-1667492100@www.tcsatl.org
SUMMARY:Gymnastics Level II
DESCRIPTION:
URL:https://www.tcsatl.org/event/gymnastics-level-ii-13/
END:VEVENT
BEGIN:VEVENT
DTSTART;TZID=America/New_York:20221103T151500
DTEND;TZID=America/New_York:20221103T163000
DTSTAMP:20260422T184553
CREATED:20220815T164207Z
LAST-MODIFIED:20221103T184305Z
UID:10008734-1667488500-1667493000@www.tcsatl.org
SUMMARY:TCS Voices
DESCRIPTION:
URL:https://www.tcsatl.org/event/tcs-voices-39/
END:VEVENT
BEGIN:VEVENT
DTSTART;TZID=America/New_York:20221103T151500
DTEND;TZID=America/New_York:20221103T164500
DTSTAMP:20260422T184553
CREATED:20220815T164210Z
LAST-MODIFIED:20221103T184305Z
UID:10008736-1667488500-1667493900@www.tcsatl.org
SUMMARY:Kids TV - Video & Film Production Class
DESCRIPTION:
URL:https://www.tcsatl.org/event/kids-tv-video-film-production-class-13/
END:VEVENT
BEGIN:VEVENT
DTSTART;TZID=America/New_York:20221103T161500
DTEND;TZID=America/New_York:20221103T171500
DTSTAMP:20260422T184553
CREATED:20220815T164207Z
LAST-MODIFIED:20221103T184305Z
UID:10008735-1667492100-1667495700@www.tcsatl.org
SUMMARY:Ballet/Tap Level II
DESCRIPTION:
URL:https://www.tcsatl.org/event/ballet-tap-level-ii-13/
END:VEVENT
END:VCALENDAR