BEGIN:VCALENDAR
VERSION:2.0
PRODID:-//The Children&#039;s School - ECPv6.15.15//NONSGML v1.0//EN
CALSCALE:GREGORIAN
METHOD:PUBLISH
X-WR-CALNAME:The Children&#039;s School
X-ORIGINAL-URL:https://www.tcsatl.org
X-WR-CALDESC:Events for The Children&#039;s School
REFRESH-INTERVAL;VALUE=DURATION:PT1H
X-Robots-Tag:noindex
X-PUBLISHED-TTL:PT1H
BEGIN:VTIMEZONE
TZID:America/New_York
BEGIN:DAYLIGHT
TZOFFSETFROM:-0500
TZOFFSETTO:-0400
TZNAME:EDT
DTSTART:20210314T070000
END:DAYLIGHT
BEGIN:STANDARD
TZOFFSETFROM:-0400
TZOFFSETTO:-0500
TZNAME:EST
DTSTART:20211107T060000
END:STANDARD
BEGIN:DAYLIGHT
TZOFFSETFROM:-0500
TZOFFSETTO:-0400
TZNAME:EDT
DTSTART:20220313T070000
END:DAYLIGHT
BEGIN:STANDARD
TZOFFSETFROM:-0400
TZOFFSETTO:-0500
TZNAME:EST
DTSTART:20221106T060000
END:STANDARD
BEGIN:DAYLIGHT
TZOFFSETFROM:-0500
TZOFFSETTO:-0400
TZNAME:EDT
DTSTART:20230312T070000
END:DAYLIGHT
BEGIN:STANDARD
TZOFFSETFROM:-0400
TZOFFSETTO:-0500
TZNAME:EST
DTSTART:20231105T060000
END:STANDARD
END:VTIMEZONE
BEGIN:VEVENT
DTSTART;VALUE=DATE:20221014
DTEND;VALUE=DATE:20221015
DTSTAMP:20260422T232028
CREATED:20220907T181431Z
LAST-MODIFIED:20221014T212945Z
UID:10009532-1665705600-1665791999@www.tcsatl.org
SUMMARY:E Day
DESCRIPTION:
URL:https://www.tcsatl.org/event/e-day-6/
END:VEVENT
BEGIN:VEVENT
DTSTART;TZID=America/New_York:20221014T151500
DTEND;TZID=America/New_York:20221014T161500
DTSTAMP:20260422T232028
CREATED:20220815T164202Z
LAST-MODIFIED:20221013T202801Z
UID:10008698-1665760500-1665764100@www.tcsatl.org
SUMMARY:Amazing Athletes
DESCRIPTION:
URL:https://www.tcsatl.org/event/amazing-athletes-33/
END:VEVENT
BEGIN:VEVENT
DTSTART;TZID=America/New_York:20221014T151500
DTEND;TZID=America/New_York:20221014T163000
DTSTAMP:20260422T232028
CREATED:20220815T171222Z
LAST-MODIFIED:20221014T195914Z
UID:10009447-1665760500-1665765000@www.tcsatl.org
SUMMARY:MAAC Boys & Girls Cross Country (6th-8th)
DESCRIPTION:
URL:https://www.tcsatl.org/event/maac-boys-girls-cross-country-6th-8th-27/
END:VEVENT
BEGIN:VEVENT
DTSTART;TZID=America/New_York:20221014T161500
DTEND;TZID=America/New_York:20221014T171500
DTSTAMP:20260422T232028
CREATED:20220815T164202Z
LAST-MODIFIED:20221014T202936Z
UID:10008699-1665764100-1665767700@www.tcsatl.org
SUMMARY:Intro to Ballet/Tap
DESCRIPTION:
URL:https://www.tcsatl.org/event/intro-to-ballet-tap-9/
END:VEVENT
END:VCALENDAR