BEGIN:VCALENDAR
VERSION:2.0
PRODID:-//The Children&#039;s School - ECPv6.15.15//NONSGML v1.0//EN
CALSCALE:GREGORIAN
METHOD:PUBLISH
X-ORIGINAL-URL:https://www.tcsatl.org
X-WR-CALDESC:Events for The Children&#039;s School
REFRESH-INTERVAL;VALUE=DURATION:PT1H
X-Robots-Tag:noindex
X-PUBLISHED-TTL:PT1H
BEGIN:VTIMEZONE
TZID:America/New_York
BEGIN:DAYLIGHT
TZOFFSETFROM:-0500
TZOFFSETTO:-0400
TZNAME:EDT
DTSTART:20210314T070000
END:DAYLIGHT
BEGIN:STANDARD
TZOFFSETFROM:-0400
TZOFFSETTO:-0500
TZNAME:EST
DTSTART:20211107T060000
END:STANDARD
BEGIN:DAYLIGHT
TZOFFSETFROM:-0500
TZOFFSETTO:-0400
TZNAME:EDT
DTSTART:20220313T070000
END:DAYLIGHT
BEGIN:STANDARD
TZOFFSETFROM:-0400
TZOFFSETTO:-0500
TZNAME:EST
DTSTART:20221106T060000
END:STANDARD
BEGIN:DAYLIGHT
TZOFFSETFROM:-0500
TZOFFSETTO:-0400
TZNAME:EDT
DTSTART:20230312T070000
END:DAYLIGHT
BEGIN:STANDARD
TZOFFSETFROM:-0400
TZOFFSETTO:-0500
TZNAME:EST
DTSTART:20231105T060000
END:STANDARD
END:VTIMEZONE
BEGIN:VEVENT
DTSTART;VALUE=DATE:20221013
DTEND;VALUE=DATE:20221014
DTSTAMP:20260422T215339
CREATED:20220907T181431Z
LAST-MODIFIED:20221013T211548Z
UID:10009531-1665619200-1665705599@www.tcsatl.org
SUMMARY:D Day
DESCRIPTION:
URL:https://www.tcsatl.org/event/d-day-5/
END:VEVENT
BEGIN:VEVENT
DTSTART;TZID=America/New_York:20221013T151500
DTEND;TZID=America/New_York:20221013T161500
DTSTAMP:20260422T215339
CREATED:20220815T164201Z
LAST-MODIFIED:20221012T203127Z
UID:10008696-1665674100-1665677700@www.tcsatl.org
SUMMARY:Gymnastics Level II
DESCRIPTION:
URL:https://www.tcsatl.org/event/gymnastics-level-ii-10/
END:VEVENT
BEGIN:VEVENT
DTSTART;TZID=America/New_York:20221013T151500
DTEND;TZID=America/New_York:20221013T163000
DTSTAMP:20260422T215339
CREATED:20220815T164201Z
LAST-MODIFIED:20221013T202801Z
UID:10008695-1665674100-1665678600@www.tcsatl.org
SUMMARY:TCS Voices
DESCRIPTION:
URL:https://www.tcsatl.org/event/tcs-voices-36/
END:VEVENT
BEGIN:VEVENT
DTSTART;TZID=America/New_York:20221013T151500
DTEND;TZID=America/New_York:20221013T163000
DTSTAMP:20260422T215339
CREATED:20220815T171221Z
LAST-MODIFIED:20221013T195800Z
UID:10009436-1665674100-1665678600@www.tcsatl.org
SUMMARY:Intramural Boys & Girls Cross Country (3rd-5th)
DESCRIPTION:
URL:https://www.tcsatl.org/event/intramural-boys-girls-cross-country-3rd-5th-18/
END:VEVENT
BEGIN:VEVENT
DTSTART;TZID=America/New_York:20221013T151500
DTEND;TZID=America/New_York:20221013T163000
DTSTAMP:20260422T215339
CREATED:20220815T171221Z
LAST-MODIFIED:20221013T195800Z
UID:10009445-1665674100-1665678600@www.tcsatl.org
SUMMARY:MAAC Girls Volleyball (6th - 8th)
DESCRIPTION:
URL:https://www.tcsatl.org/event/maac-girls-volleyball-6th-8th-26/
END:VEVENT
BEGIN:VEVENT
DTSTART;TZID=America/New_York:20221013T151500
DTEND;TZID=America/New_York:20221013T164500
DTSTAMP:20260422T215339
CREATED:20220815T164202Z
LAST-MODIFIED:20221013T202801Z
UID:10008697-1665674100-1665679500@www.tcsatl.org
SUMMARY:Kids TV - Video & Film Production Class
DESCRIPTION:
URL:https://www.tcsatl.org/event/kids-tv-video-film-production-class-10/
END:VEVENT
BEGIN:VEVENT
DTSTART;TZID=America/New_York:20221013T161500
DTEND;TZID=America/New_York:20221013T171500
DTSTAMP:20260422T215339
CREATED:20220815T164201Z
LAST-MODIFIED:20221013T202801Z
UID:10008694-1665677700-1665681300@www.tcsatl.org
SUMMARY:Ballet/Tap Level II
DESCRIPTION:
URL:https://www.tcsatl.org/event/ballet-tap-level-ii-10/
END:VEVENT
END:VCALENDAR