BEGIN:VCALENDAR
VERSION:2.0
PRODID:-//The Children&#039;s School - ECPv6.15.15//NONSGML v1.0//EN
CALSCALE:GREGORIAN
METHOD:PUBLISH
X-WR-CALNAME:The Children&#039;s School
X-ORIGINAL-URL:https://www.tcsatl.org
X-WR-CALDESC:Events for The Children&#039;s School
REFRESH-INTERVAL;VALUE=DURATION:PT1H
X-Robots-Tag:noindex
X-PUBLISHED-TTL:PT1H
BEGIN:VTIMEZONE
TZID:America/New_York
BEGIN:DAYLIGHT
TZOFFSETFROM:-0500
TZOFFSETTO:-0400
TZNAME:EDT
DTSTART:20210314T070000
END:DAYLIGHT
BEGIN:STANDARD
TZOFFSETFROM:-0400
TZOFFSETTO:-0500
TZNAME:EST
DTSTART:20211107T060000
END:STANDARD
BEGIN:DAYLIGHT
TZOFFSETFROM:-0500
TZOFFSETTO:-0400
TZNAME:EDT
DTSTART:20220313T070000
END:DAYLIGHT
BEGIN:STANDARD
TZOFFSETFROM:-0400
TZOFFSETTO:-0500
TZNAME:EST
DTSTART:20221106T060000
END:STANDARD
BEGIN:DAYLIGHT
TZOFFSETFROM:-0500
TZOFFSETTO:-0400
TZNAME:EDT
DTSTART:20230312T070000
END:DAYLIGHT
BEGIN:STANDARD
TZOFFSETFROM:-0400
TZOFFSETTO:-0500
TZNAME:EST
DTSTART:20231105T060000
END:STANDARD
END:VTIMEZONE
BEGIN:VEVENT
DTSTART;VALUE=DATE:20221006
DTEND;VALUE=DATE:20221008
DTSTAMP:20260422T184229
CREATED:20220728T163344Z
LAST-MODIFIED:20220728T163344Z
UID:10008531-1665014400-1665187199@www.tcsatl.org
SUMMARY:Fall Break - School Closed
DESCRIPTION:
URL:https://www.tcsatl.org/event/fall-break-school-closed-6/
END:VEVENT
BEGIN:VEVENT
DTSTART;TZID=America/New_York:20221007T151500
DTEND;TZID=America/New_York:20221007T161500
DTSTAMP:20260422T184229
CREATED:20220815T164159Z
LAST-MODIFIED:20221006T202800Z
UID:10008686-1665155700-1665159300@www.tcsatl.org
SUMMARY:Amazing Athletes
DESCRIPTION:
URL:https://www.tcsatl.org/event/amazing-athletes-32/
END:VEVENT
BEGIN:VEVENT
DTSTART;TZID=America/New_York:20221007T151500
DTEND;TZID=America/New_York:20221007T163000
DTSTAMP:20260422T184229
CREATED:20220815T171220Z
LAST-MODIFIED:20221007T194432Z
UID:10009400-1665155700-1665160200@www.tcsatl.org
SUMMARY:MAAC Boys & Girls Cross Country (6th-8th)
DESCRIPTION:
URL:https://www.tcsatl.org/event/maac-boys-girls-cross-country-6th-8th-24/
END:VEVENT
BEGIN:VEVENT
DTSTART;TZID=America/New_York:20221007T151500
DTEND;TZID=America/New_York:20221007T163000
DTSTAMP:20260422T184229
CREATED:20220815T171220Z
LAST-MODIFIED:20221007T194432Z
UID:10009402-1665155700-1665160200@www.tcsatl.org
SUMMARY:MAAC Girls Volleyball (6th - 8th)
DESCRIPTION:
URL:https://www.tcsatl.org/event/maac-girls-volleyball-6th-8th-24/
END:VEVENT
BEGIN:VEVENT
DTSTART;TZID=America/New_York:20221007T161500
DTEND;TZID=America/New_York:20221007T171500
DTSTAMP:20260422T184229
CREATED:20220815T164159Z
LAST-MODIFIED:20221007T202855Z
UID:10008685-1665159300-1665162900@www.tcsatl.org
SUMMARY:Intro to Ballet/Tap
DESCRIPTION:
URL:https://www.tcsatl.org/event/intro-to-ballet-tap-8/
END:VEVENT
END:VCALENDAR