BEGIN:VCALENDAR
VERSION:2.0
PRODID:-//The Children&#039;s School - ECPv6.15.15//NONSGML v1.0//EN
CALSCALE:GREGORIAN
METHOD:PUBLISH
X-ORIGINAL-URL:https://www.tcsatl.org
X-WR-CALDESC:Events for The Children&#039;s School
REFRESH-INTERVAL;VALUE=DURATION:PT1H
X-Robots-Tag:noindex
X-PUBLISHED-TTL:PT1H
BEGIN:VTIMEZONE
TZID:America/New_York
BEGIN:DAYLIGHT
TZOFFSETFROM:-0500
TZOFFSETTO:-0400
TZNAME:EDT
DTSTART:20210314T070000
END:DAYLIGHT
BEGIN:STANDARD
TZOFFSETFROM:-0400
TZOFFSETTO:-0500
TZNAME:EST
DTSTART:20211107T060000
END:STANDARD
BEGIN:DAYLIGHT
TZOFFSETFROM:-0500
TZOFFSETTO:-0400
TZNAME:EDT
DTSTART:20220313T070000
END:DAYLIGHT
BEGIN:STANDARD
TZOFFSETFROM:-0400
TZOFFSETTO:-0500
TZNAME:EST
DTSTART:20221106T060000
END:STANDARD
BEGIN:DAYLIGHT
TZOFFSETFROM:-0500
TZOFFSETTO:-0400
TZNAME:EDT
DTSTART:20230312T070000
END:DAYLIGHT
BEGIN:STANDARD
TZOFFSETFROM:-0400
TZOFFSETTO:-0500
TZNAME:EST
DTSTART:20231105T060000
END:STANDARD
END:VTIMEZONE
BEGIN:VEVENT
DTSTART;VALUE=DATE:20221005
DTEND;VALUE=DATE:20221006
DTSTAMP:20260423T004920
CREATED:20220728T163344Z
LAST-MODIFIED:20221005T201557Z
UID:10008532-1664928000-1665014399@www.tcsatl.org
SUMMARY:School Closed: Yom Kippur
DESCRIPTION:
URL:https://www.tcsatl.org/event/school-closed-yom-kippur/
END:VEVENT
BEGIN:VEVENT
DTSTART;TZID=America/New_York:20221005T074500
DTEND;TZID=America/New_York:20221005T090000
DTSTAMP:20260423T004920
CREATED:20220815T171219Z
LAST-MODIFIED:20221004T194328Z
UID:10009386-1664955900-1664960400@www.tcsatl.org
SUMMARY:Intramural Co-Ed Volleyball (3rd - 5th)
DESCRIPTION:
URL:https://www.tcsatl.org/event/intramural-co-ed-volleyball-3rd-5th-16/
END:VEVENT
BEGIN:VEVENT
DTSTART;TZID=America/New_York:20221005T151500
DTEND;TZID=America/New_York:20221005T161500
DTSTAMP:20260423T004920
CREATED:20220815T164159Z
LAST-MODIFIED:20221004T201251Z
UID:10008680-1664982900-1664986500@www.tcsatl.org
SUMMARY:TCS Jr. Players
DESCRIPTION:
URL:https://www.tcsatl.org/event/tcs-jr-players-35/
END:VEVENT
BEGIN:VEVENT
DTSTART;TZID=America/New_York:20221005T151500
DTEND;TZID=America/New_York:20221005T163000
DTSTAMP:20260423T004920
CREATED:20220815T164158Z
LAST-MODIFIED:20221005T201536Z
UID:10008679-1664982900-1664987400@www.tcsatl.org
SUMMARY:TCS Players
DESCRIPTION:
URL:https://www.tcsatl.org/event/tcs-players-61/
END:VEVENT
BEGIN:VEVENT
DTSTART;TZID=America/New_York:20221005T151500
DTEND;TZID=America/New_York:20221005T163000
DTSTAMP:20260423T004920
CREATED:20220815T171219Z
LAST-MODIFIED:20221005T194251Z
UID:10009388-1664982900-1664987400@www.tcsatl.org
SUMMARY:MAAC Boys & Girls Cross Country (6th-8th)
DESCRIPTION:
URL:https://www.tcsatl.org/event/maac-boys-girls-cross-country-6th-8th-23/
END:VEVENT
BEGIN:VEVENT
DTSTART;TZID=America/New_York:20221005T151500
DTEND;TZID=America/New_York:20221005T163000
DTSTAMP:20260423T004920
CREATED:20220815T171219Z
LAST-MODIFIED:20221005T194251Z
UID:10009390-1664982900-1664987400@www.tcsatl.org
SUMMARY:Intramural Co-Ed Tennis (3rd-5th)
DESCRIPTION:
URL:https://www.tcsatl.org/event/intramural-co-ed-tennis-3rd-5th-16/
END:VEVENT
BEGIN:VEVENT
DTSTART;TZID=America/New_York:20221005T160000
DTEND;TZID=America/New_York:20221005T170000
DTSTAMP:20260423T004920
CREATED:20220809T171146Z
LAST-MODIFIED:20221005T194251Z
UID:10008577-1664985600-1664989200@www.tcsatl.org
SUMMARY:MAAC Girls & Boys Cross Country Meet - TBD
DESCRIPTION:
URL:https://www.tcsatl.org/event/maac-girls-boys-cross-country-meet-tbd/
END:VEVENT
END:VCALENDAR