BEGIN:VCALENDAR
VERSION:2.0
PRODID:-//The Children&#039;s School - ECPv6.15.15//NONSGML v1.0//EN
CALSCALE:GREGORIAN
METHOD:PUBLISH
X-ORIGINAL-URL:https://www.tcsatl.org
X-WR-CALDESC:Events for The Children&#039;s School
REFRESH-INTERVAL;VALUE=DURATION:PT1H
X-Robots-Tag:noindex
X-PUBLISHED-TTL:PT1H
BEGIN:VTIMEZONE
TZID:America/New_York
BEGIN:DAYLIGHT
TZOFFSETFROM:-0500
TZOFFSETTO:-0400
TZNAME:EDT
DTSTART:20210314T070000
END:DAYLIGHT
BEGIN:STANDARD
TZOFFSETFROM:-0400
TZOFFSETTO:-0500
TZNAME:EST
DTSTART:20211107T060000
END:STANDARD
BEGIN:DAYLIGHT
TZOFFSETFROM:-0500
TZOFFSETTO:-0400
TZNAME:EDT
DTSTART:20220313T070000
END:DAYLIGHT
BEGIN:STANDARD
TZOFFSETFROM:-0400
TZOFFSETTO:-0500
TZNAME:EST
DTSTART:20221106T060000
END:STANDARD
BEGIN:DAYLIGHT
TZOFFSETFROM:-0500
TZOFFSETTO:-0400
TZNAME:EDT
DTSTART:20230312T070000
END:DAYLIGHT
BEGIN:STANDARD
TZOFFSETFROM:-0400
TZOFFSETTO:-0500
TZNAME:EST
DTSTART:20231105T060000
END:STANDARD
END:VTIMEZONE
BEGIN:VEVENT
DTSTART;VALUE=DATE:20221003
DTEND;VALUE=DATE:20221005
DTSTAMP:20260422T215337
CREATED:20220728T163344Z
LAST-MODIFIED:20221004T201313Z
UID:10008533-1664755200-1664927999@www.tcsatl.org
SUMMARY:Parent/ Teacher Conferences - School Closed for Students
DESCRIPTION:
URL:https://www.tcsatl.org/event/parent-teacher-conferences-school-closed-for-students-6/
END:VEVENT
BEGIN:VEVENT
DTSTART;TZID=America/New_York:20221003T151500
DTEND;TZID=America/New_York:20221003T161500
DTSTAMP:20260422T215337
CREATED:20220815T164158Z
LAST-MODIFIED:20221003T201318Z
UID:10008675-1664810100-1664813700@www.tcsatl.org
SUMMARY:Bricks4Kidz
DESCRIPTION:
URL:https://www.tcsatl.org/event/bricks4kidz-9/
END:VEVENT
BEGIN:VEVENT
DTSTART;TZID=America/New_York:20221003T151500
DTEND;TZID=America/New_York:20221003T163000
DTSTAMP:20260422T215337
CREATED:20220815T164158Z
LAST-MODIFIED:20221003T201318Z
UID:10008674-1664810100-1664814600@www.tcsatl.org
SUMMARY:TCS Players
DESCRIPTION:
URL:https://www.tcsatl.org/event/tcs-players-60/
END:VEVENT
BEGIN:VEVENT
DTSTART;TZID=America/New_York:20221003T151500
DTEND;TZID=America/New_York:20221003T163000
DTSTAMP:20260422T215337
CREATED:20220815T171218Z
LAST-MODIFIED:20221003T194318Z
UID:10009381-1664810100-1664814600@www.tcsatl.org
SUMMARY:MAAC Girls Volleyball (6th - 8th)
DESCRIPTION:
URL:https://www.tcsatl.org/event/maac-girls-volleyball-6th-8th-22/
END:VEVENT
BEGIN:VEVENT
DTSTART;TZID=America/New_York:20221003T151500
DTEND;TZID=America/New_York:20221003T163000
DTSTAMP:20260422T215337
CREATED:20220815T171218Z
LAST-MODIFIED:20221003T194318Z
UID:10009375-1664810100-1664814600@www.tcsatl.org
SUMMARY:Intramural Boys & Girls Cross Country (3rd-5th)
DESCRIPTION:
URL:https://www.tcsatl.org/event/intramural-boys-girls-cross-country-3rd-5th-15/
END:VEVENT
END:VCALENDAR