BEGIN:VCALENDAR
VERSION:2.0
PRODID:-//The Children&#039;s School - ECPv6.15.15//NONSGML v1.0//EN
CALSCALE:GREGORIAN
METHOD:PUBLISH
X-ORIGINAL-URL:https://www.tcsatl.org
X-WR-CALDESC:Events for The Children&#039;s School
REFRESH-INTERVAL;VALUE=DURATION:PT1H
X-Robots-Tag:noindex
X-PUBLISHED-TTL:PT1H
BEGIN:VTIMEZONE
TZID:America/New_York
BEGIN:DAYLIGHT
TZOFFSETFROM:-0500
TZOFFSETTO:-0400
TZNAME:EDT
DTSTART:20210314T070000
END:DAYLIGHT
BEGIN:STANDARD
TZOFFSETFROM:-0400
TZOFFSETTO:-0500
TZNAME:EST
DTSTART:20211107T060000
END:STANDARD
BEGIN:DAYLIGHT
TZOFFSETFROM:-0500
TZOFFSETTO:-0400
TZNAME:EDT
DTSTART:20220313T070000
END:DAYLIGHT
BEGIN:STANDARD
TZOFFSETFROM:-0400
TZOFFSETTO:-0500
TZNAME:EST
DTSTART:20221106T060000
END:STANDARD
BEGIN:DAYLIGHT
TZOFFSETFROM:-0500
TZOFFSETTO:-0400
TZNAME:EDT
DTSTART:20230312T070000
END:DAYLIGHT
BEGIN:STANDARD
TZOFFSETFROM:-0400
TZOFFSETTO:-0500
TZNAME:EST
DTSTART:20231105T060000
END:STANDARD
END:VTIMEZONE
BEGIN:VEVENT
DTSTART;VALUE=DATE:20220926
DTEND;VALUE=DATE:20220927
DTSTAMP:20260422T201543
CREATED:20220728T163343Z
LAST-MODIFIED:20220926T192847Z
UID:10008528-1664150400-1664236799@www.tcsatl.org
SUMMARY:School Closed: Rosh Hashanah
DESCRIPTION:
URL:https://www.tcsatl.org/event/school-closed-rosh-hashanah/
END:VEVENT
BEGIN:VEVENT
DTSTART;TZID=America/New_York:20220926T151500
DTEND;TZID=America/New_York:20220926T161500
DTSTAMP:20260422T201543
CREATED:20220815T164156Z
LAST-MODIFIED:20220926T195916Z
UID:10008661-1664205300-1664208900@www.tcsatl.org
SUMMARY:Bricks4Kidz
DESCRIPTION:
URL:https://www.tcsatl.org/event/bricks4kidz-8/
END:VEVENT
BEGIN:VEVENT
DTSTART;TZID=America/New_York:20220926T151500
DTEND;TZID=America/New_York:20220926T163000
DTSTAMP:20260422T201543
CREATED:20220815T164156Z
LAST-MODIFIED:20220926T195916Z
UID:10008662-1664205300-1664209800@www.tcsatl.org
SUMMARY:TCS Players
DESCRIPTION:
URL:https://www.tcsatl.org/event/tcs-players-58/
END:VEVENT
BEGIN:VEVENT
DTSTART;TZID=America/New_York:20220926T151500
DTEND;TZID=America/New_York:20220926T163000
DTSTAMP:20260422T201543
CREATED:20220815T171216Z
LAST-MODIFIED:20220926T191248Z
UID:10009335-1664205300-1664209800@www.tcsatl.org
SUMMARY:Intramural Boys & Girls Cross Country (3rd-5th)
DESCRIPTION:
URL:https://www.tcsatl.org/event/intramural-boys-girls-cross-country-3rd-5th-13/
END:VEVENT
BEGIN:VEVENT
DTSTART;TZID=America/New_York:20220926T151500
DTEND;TZID=America/New_York:20220926T163000
DTSTAMP:20260422T201543
CREATED:20220815T171216Z
LAST-MODIFIED:20220926T191248Z
UID:10009336-1664205300-1664209800@www.tcsatl.org
SUMMARY:MAAC Girls Volleyball (6th - 8th)
DESCRIPTION:
URL:https://www.tcsatl.org/event/maac-girls-volleyball-6th-8th-19/
END:VEVENT
END:VCALENDAR