BEGIN:VCALENDAR
VERSION:2.0
PRODID:-//The Children&#039;s School - ECPv6.15.15//NONSGML v1.0//EN
CALSCALE:GREGORIAN
METHOD:PUBLISH
X-WR-CALNAME:The Children&#039;s School
X-ORIGINAL-URL:https://www.tcsatl.org
X-WR-CALDESC:Events for The Children&#039;s School
REFRESH-INTERVAL;VALUE=DURATION:PT1H
X-Robots-Tag:noindex
X-PUBLISHED-TTL:PT1H
BEGIN:VTIMEZONE
TZID:America/New_York
BEGIN:DAYLIGHT
TZOFFSETFROM:-0500
TZOFFSETTO:-0400
TZNAME:EDT
DTSTART:20210314T070000
END:DAYLIGHT
BEGIN:STANDARD
TZOFFSETFROM:-0400
TZOFFSETTO:-0500
TZNAME:EST
DTSTART:20211107T060000
END:STANDARD
BEGIN:DAYLIGHT
TZOFFSETFROM:-0500
TZOFFSETTO:-0400
TZNAME:EDT
DTSTART:20220313T070000
END:DAYLIGHT
BEGIN:STANDARD
TZOFFSETFROM:-0400
TZOFFSETTO:-0500
TZNAME:EST
DTSTART:20221106T060000
END:STANDARD
BEGIN:DAYLIGHT
TZOFFSETFROM:-0500
TZOFFSETTO:-0400
TZNAME:EDT
DTSTART:20230312T070000
END:DAYLIGHT
BEGIN:STANDARD
TZOFFSETFROM:-0400
TZOFFSETTO:-0500
TZNAME:EST
DTSTART:20231105T060000
END:STANDARD
END:VTIMEZONE
BEGIN:VEVENT
DTSTART;VALUE=DATE:20220922
DTEND;VALUE=DATE:20220923
DTSTAMP:20260422T232035
CREATED:20220907T181429Z
LAST-MODIFIED:20220922T185953Z
UID:10009522-1663804800-1663891199@www.tcsatl.org
SUMMARY:A Day
DESCRIPTION:
URL:https://www.tcsatl.org/event/a-day-3/
END:VEVENT
BEGIN:VEVENT
DTSTART;TZID=America/New_York:20220922T151500
DTEND;TZID=America/New_York:20220922T161500
DTSTAMP:20260422T232035
CREATED:20220815T164156Z
LAST-MODIFIED:20220922T192822Z
UID:10008657-1663859700-1663863300@www.tcsatl.org
SUMMARY:Gymnastics Level II
DESCRIPTION:
URL:https://www.tcsatl.org/event/gymnastics-level-ii-7/
END:VEVENT
BEGIN:VEVENT
DTSTART;TZID=America/New_York:20220922T151500
DTEND;TZID=America/New_York:20220922T163000
DTSTAMP:20260422T232035
CREATED:20220815T164155Z
LAST-MODIFIED:20220922T192822Z
UID:10008655-1663859700-1663864200@www.tcsatl.org
SUMMARY:TCS Voices
DESCRIPTION:
URL:https://www.tcsatl.org/event/tcs-voices-33/
END:VEVENT
BEGIN:VEVENT
DTSTART;TZID=America/New_York:20220922T151500
DTEND;TZID=America/New_York:20220922T163000
DTSTAMP:20260422T232035
CREATED:20220815T171215Z
LAST-MODIFIED:20220922T190226Z
UID:10009323-1663859700-1663864200@www.tcsatl.org
SUMMARY:MAAC Girls Volleyball (6th - 8th)
DESCRIPTION:
URL:https://www.tcsatl.org/event/maac-girls-volleyball-6th-8th-17/
END:VEVENT
BEGIN:VEVENT
DTSTART;TZID=America/New_York:20220922T151500
DTEND;TZID=America/New_York:20220922T163000
DTSTAMP:20260422T232035
CREATED:20220815T171215Z
LAST-MODIFIED:20220922T190226Z
UID:10009325-1663859700-1663864200@www.tcsatl.org
SUMMARY:Intramural Boys & Girls Cross Country (3rd-5th)
DESCRIPTION:
URL:https://www.tcsatl.org/event/intramural-boys-girls-cross-country-3rd-5th-12/
END:VEVENT
BEGIN:VEVENT
DTSTART;TZID=America/New_York:20220922T151500
DTEND;TZID=America/New_York:20220922T164500
DTSTAMP:20260422T232035
CREATED:20220815T164156Z
LAST-MODIFIED:20220922T192822Z
UID:10008658-1663859700-1663865100@www.tcsatl.org
SUMMARY:Kids TV - Video & Film Production Class
DESCRIPTION:
URL:https://www.tcsatl.org/event/kids-tv-video-film-production-class-7/
END:VEVENT
BEGIN:VEVENT
DTSTART;TZID=America/New_York:20220922T161500
DTEND;TZID=America/New_York:20220922T171500
DTSTAMP:20260422T232035
CREATED:20220815T164156Z
LAST-MODIFIED:20220922T192822Z
UID:10008656-1663863300-1663866900@www.tcsatl.org
SUMMARY:Ballet/Tap Level II
DESCRIPTION:
URL:https://www.tcsatl.org/event/ballet-tap-level-ii-7/
END:VEVENT
END:VCALENDAR