BEGIN:VCALENDAR
VERSION:2.0
PRODID:-//The Children&#039;s School - ECPv6.15.15//NONSGML v1.0//EN
CALSCALE:GREGORIAN
METHOD:PUBLISH
X-ORIGINAL-URL:https://www.tcsatl.org
X-WR-CALDESC:Events for The Children&#039;s School
REFRESH-INTERVAL;VALUE=DURATION:PT1H
X-Robots-Tag:noindex
X-PUBLISHED-TTL:PT1H
BEGIN:VTIMEZONE
TZID:America/New_York
BEGIN:DAYLIGHT
TZOFFSETFROM:-0500
TZOFFSETTO:-0400
TZNAME:EDT
DTSTART:20210314T070000
END:DAYLIGHT
BEGIN:STANDARD
TZOFFSETFROM:-0400
TZOFFSETTO:-0500
TZNAME:EST
DTSTART:20211107T060000
END:STANDARD
BEGIN:DAYLIGHT
TZOFFSETFROM:-0500
TZOFFSETTO:-0400
TZNAME:EDT
DTSTART:20220313T070000
END:DAYLIGHT
BEGIN:STANDARD
TZOFFSETFROM:-0400
TZOFFSETTO:-0500
TZNAME:EST
DTSTART:20221106T060000
END:STANDARD
BEGIN:DAYLIGHT
TZOFFSETFROM:-0500
TZOFFSETTO:-0400
TZNAME:EDT
DTSTART:20230312T070000
END:DAYLIGHT
BEGIN:STANDARD
TZOFFSETFROM:-0400
TZOFFSETTO:-0500
TZNAME:EST
DTSTART:20231105T060000
END:STANDARD
END:VTIMEZONE
BEGIN:VEVENT
DTSTART;VALUE=DATE:20220916
DTEND;VALUE=DATE:20220917
DTSTAMP:20260422T215329
CREATED:20220907T181429Z
LAST-MODIFIED:20220916T182806Z
UID:10009496-1663286400-1663372799@www.tcsatl.org
SUMMARY:C Day
DESCRIPTION:
URL:https://www.tcsatl.org/event/c-day-3/
END:VEVENT
BEGIN:VEVENT
DTSTART;VALUE=DATE:20220916
DTEND;VALUE=DATE:20220917
DTSTAMP:20260422T215329
CREATED:20220907T181429Z
LAST-MODIFIED:20220907T181429Z
UID:10009498-1663286400-1663372799@www.tcsatl.org
SUMMARY:C Day
DESCRIPTION:
URL:https://www.tcsatl.org/event/c-day-4/
END:VEVENT
BEGIN:VEVENT
DTSTART;TZID=America/New_York:20220916T151500
DTEND;TZID=America/New_York:20220916T161500
DTSTAMP:20260422T215329
CREATED:20220815T164154Z
LAST-MODIFIED:20220916T185921Z
UID:10008647-1663341300-1663344900@www.tcsatl.org
SUMMARY:Amazing Athletes
DESCRIPTION:
URL:https://www.tcsatl.org/event/amazing-athletes-29/
END:VEVENT
BEGIN:VEVENT
DTSTART;TZID=America/New_York:20220916T151500
DTEND;TZID=America/New_York:20220916T163000
DTSTAMP:20260422T215329
CREATED:20220815T171213Z
LAST-MODIFIED:20220916T184258Z
UID:10009299-1663341300-1663345800@www.tcsatl.org
SUMMARY:MAAC Girls Volleyball (6th - 8th)
DESCRIPTION:
URL:https://www.tcsatl.org/event/maac-girls-volleyball-6th-8th-15/
END:VEVENT
BEGIN:VEVENT
DTSTART;TZID=America/New_York:20220916T151500
DTEND;TZID=America/New_York:20220916T163000
DTSTAMP:20260422T215329
CREATED:20220815T171213Z
LAST-MODIFIED:20220916T184258Z
UID:10009302-1663341300-1663345800@www.tcsatl.org
SUMMARY:MAAC Boys & Girls Cross Country (6th-8th)
DESCRIPTION:
URL:https://www.tcsatl.org/event/maac-boys-girls-cross-country-6th-8th-15/
END:VEVENT
BEGIN:VEVENT
DTSTART;TZID=America/New_York:20220916T161500
DTEND;TZID=America/New_York:20220916T171500
DTSTAMP:20260422T215329
CREATED:20220815T164154Z
LAST-MODIFIED:20220916T185921Z
UID:10008646-1663344900-1663348500@www.tcsatl.org
SUMMARY:Intro to Ballet/Tap
DESCRIPTION:
URL:https://www.tcsatl.org/event/intro-to-ballet-tap-5/
END:VEVENT
END:VCALENDAR