BEGIN:VCALENDAR
VERSION:2.0
PRODID:-//The Children&#039;s School - ECPv6.15.15//NONSGML v1.0//EN
CALSCALE:GREGORIAN
METHOD:PUBLISH
X-WR-CALNAME:The Children&#039;s School
X-ORIGINAL-URL:https://www.tcsatl.org
X-WR-CALDESC:Events for The Children&#039;s School
REFRESH-INTERVAL;VALUE=DURATION:PT1H
X-Robots-Tag:noindex
X-PUBLISHED-TTL:PT1H
BEGIN:VTIMEZONE
TZID:America/New_York
BEGIN:DAYLIGHT
TZOFFSETFROM:-0500
TZOFFSETTO:-0400
TZNAME:EDT
DTSTART:20210314T070000
END:DAYLIGHT
BEGIN:STANDARD
TZOFFSETFROM:-0400
TZOFFSETTO:-0500
TZNAME:EST
DTSTART:20211107T060000
END:STANDARD
BEGIN:DAYLIGHT
TZOFFSETFROM:-0500
TZOFFSETTO:-0400
TZNAME:EDT
DTSTART:20220313T070000
END:DAYLIGHT
BEGIN:STANDARD
TZOFFSETFROM:-0400
TZOFFSETTO:-0500
TZNAME:EST
DTSTART:20221106T060000
END:STANDARD
BEGIN:DAYLIGHT
TZOFFSETFROM:-0500
TZOFFSETTO:-0400
TZNAME:EDT
DTSTART:20230312T070000
END:DAYLIGHT
BEGIN:STANDARD
TZOFFSETFROM:-0400
TZOFFSETTO:-0500
TZNAME:EST
DTSTART:20231105T060000
END:STANDARD
END:VTIMEZONE
BEGIN:VEVENT
DTSTART;VALUE=DATE:20220909
DTEND;VALUE=DATE:20220910
DTSTAMP:20260423T004730
CREATED:20220907T181428Z
LAST-MODIFIED:20220907T181428Z
UID:10009477-1662681600-1662767999@www.tcsatl.org
SUMMARY:D Day
DESCRIPTION:
URL:https://www.tcsatl.org/event/d-day-2/
END:VEVENT
BEGIN:VEVENT
DTSTART;VALUE=DATE:20220909
DTEND;VALUE=DATE:20220910
DTSTAMP:20260423T004730
CREATED:20220907T181428Z
LAST-MODIFIED:20220909T182800Z
UID:10009476-1662681600-1662767999@www.tcsatl.org
SUMMARY:D Day
DESCRIPTION:
URL:https://www.tcsatl.org/event/d-day/
END:VEVENT
BEGIN:VEVENT
DTSTART;TZID=America/New_York:20220909T084500
DTEND;TZID=America/New_York:20220909T093000
DTSTAMP:20260423T004730
CREATED:20220901T181246Z
LAST-MODIFIED:20220908T182807Z
UID:10009458-1662713100-1662715800@www.tcsatl.org
SUMMARY:PA Outdoors Group Walk
DESCRIPTION:
URL:https://www.tcsatl.org/event/pa-outdoors-group-walk/
LOCATION:Piedmont Park – Charles Allen and 10th St.
END:VEVENT
BEGIN:VEVENT
DTSTART;TZID=America/New_York:20220909T151500
DTEND;TZID=America/New_York:20220909T161500
DTSTAMP:20260423T004730
CREATED:20220815T164152Z
LAST-MODIFIED:20220909T185844Z
UID:10008633-1662736500-1662740100@www.tcsatl.org
SUMMARY:Amazing Athletes
DESCRIPTION:
URL:https://www.tcsatl.org/event/amazing-athletes-28/
END:VEVENT
BEGIN:VEVENT
DTSTART;TZID=America/New_York:20220909T151500
DTEND;TZID=America/New_York:20220909T163000
DTSTAMP:20260423T004730
CREATED:20220815T171211Z
LAST-MODIFIED:20220909T175807Z
UID:10009252-1662736500-1662741000@www.tcsatl.org
SUMMARY:MAAC Girls Volleyball (6th - 8th)
DESCRIPTION:
URL:https://www.tcsatl.org/event/maac-girls-volleyball-6th-8th-12/
END:VEVENT
BEGIN:VEVENT
DTSTART;TZID=America/New_York:20220909T151500
DTEND;TZID=America/New_York:20220909T163000
DTSTAMP:20260423T004730
CREATED:20220815T171211Z
LAST-MODIFIED:20220909T175808Z
UID:10009264-1662736500-1662741000@www.tcsatl.org
SUMMARY:MAAC Boys & Girls Cross Country (6th-8th)
DESCRIPTION:
URL:https://www.tcsatl.org/event/maac-boys-girls-cross-country-6th-8th-12/
END:VEVENT
BEGIN:VEVENT
DTSTART;TZID=America/New_York:20220909T161500
DTEND;TZID=America/New_York:20220909T171500
DTSTAMP:20260423T004730
CREATED:20220815T164153Z
LAST-MODIFIED:20220909T185844Z
UID:10008634-1662740100-1662743700@www.tcsatl.org
SUMMARY:Intro to Ballet/Tap
DESCRIPTION:
URL:https://www.tcsatl.org/event/intro-to-ballet-tap-4/
END:VEVENT
END:VCALENDAR