BEGIN:VCALENDAR
VERSION:2.0
PRODID:-//The Children&#039;s School - ECPv6.15.15//NONSGML v1.0//EN
CALSCALE:GREGORIAN
METHOD:PUBLISH
X-WR-CALNAME:The Children&#039;s School
X-ORIGINAL-URL:https://www.tcsatl.org
X-WR-CALDESC:Events for The Children&#039;s School
REFRESH-INTERVAL;VALUE=DURATION:PT1H
X-Robots-Tag:noindex
X-PUBLISHED-TTL:PT1H
BEGIN:VTIMEZONE
TZID:America/New_York
BEGIN:DAYLIGHT
TZOFFSETFROM:-0500
TZOFFSETTO:-0400
TZNAME:EDT
DTSTART:20210314T070000
END:DAYLIGHT
BEGIN:STANDARD
TZOFFSETFROM:-0400
TZOFFSETTO:-0500
TZNAME:EST
DTSTART:20211107T060000
END:STANDARD
BEGIN:DAYLIGHT
TZOFFSETFROM:-0500
TZOFFSETTO:-0400
TZNAME:EDT
DTSTART:20220313T070000
END:DAYLIGHT
BEGIN:STANDARD
TZOFFSETFROM:-0400
TZOFFSETTO:-0500
TZNAME:EST
DTSTART:20221106T060000
END:STANDARD
BEGIN:DAYLIGHT
TZOFFSETFROM:-0500
TZOFFSETTO:-0400
TZNAME:EDT
DTSTART:20230312T070000
END:DAYLIGHT
BEGIN:STANDARD
TZOFFSETFROM:-0400
TZOFFSETTO:-0500
TZNAME:EST
DTSTART:20231105T060000
END:STANDARD
END:VTIMEZONE
BEGIN:VEVENT
DTSTART;VALUE=DATE:20220908
DTEND;VALUE=DATE:20220909
DTSTAMP:20260422T232033
CREATED:20220907T181427Z
LAST-MODIFIED:20220908T182807Z
UID:10009466-1662595200-1662681599@www.tcsatl.org
SUMMARY:C Day
DESCRIPTION:
URL:https://www.tcsatl.org/event/c-day/
END:VEVENT
BEGIN:VEVENT
DTSTART;VALUE=DATE:20220908
DTEND;VALUE=DATE:20220909
DTSTAMP:20260422T232033
CREATED:20220907T181428Z
LAST-MODIFIED:20220907T181428Z
UID:10009468-1662595200-1662681599@www.tcsatl.org
SUMMARY:C Day
DESCRIPTION:
URL:https://www.tcsatl.org/event/c-day-2/
END:VEVENT
BEGIN:VEVENT
DTSTART;TZID=America/New_York:20220908T151500
DTEND;TZID=America/New_York:20220908T161500
DTSTAMP:20260422T232033
CREATED:20220815T164152Z
LAST-MODIFIED:20220908T184338Z
UID:10008631-1662650100-1662653700@www.tcsatl.org
SUMMARY:Gymnastics Level II
DESCRIPTION:
URL:https://www.tcsatl.org/event/gymnastics-level-ii-5/
END:VEVENT
BEGIN:VEVENT
DTSTART;TZID=America/New_York:20220908T151500
DTEND;TZID=America/New_York:20220908T163000
DTSTAMP:20260422T232033
CREATED:20220815T164152Z
LAST-MODIFIED:20220908T184338Z
UID:10008630-1662650100-1662654600@www.tcsatl.org
SUMMARY:TCS Voices
DESCRIPTION:
URL:https://www.tcsatl.org/event/tcs-voices-31/
END:VEVENT
BEGIN:VEVENT
DTSTART;TZID=America/New_York:20220908T151500
DTEND;TZID=America/New_York:20220908T163000
DTSTAMP:20260422T232033
CREATED:20220815T171210Z
LAST-MODIFIED:20220908T175745Z
UID:10009240-1662650100-1662654600@www.tcsatl.org
SUMMARY:Intramural Boys & Girls Cross Country (3rd-5th)
DESCRIPTION:
URL:https://www.tcsatl.org/event/intramural-boys-girls-cross-country-3rd-5th-8/
END:VEVENT
BEGIN:VEVENT
DTSTART;TZID=America/New_York:20220908T151500
DTEND;TZID=America/New_York:20220908T163000
DTSTAMP:20260422T232033
CREATED:20220815T171210Z
LAST-MODIFIED:20220908T175745Z
UID:10009242-1662650100-1662654600@www.tcsatl.org
SUMMARY:MAAC Girls Volleyball (6th - 8th)
DESCRIPTION:
URL:https://www.tcsatl.org/event/maac-girls-volleyball-6th-8th-11/
END:VEVENT
BEGIN:VEVENT
DTSTART;TZID=America/New_York:20220908T151500
DTEND;TZID=America/New_York:20220908T164500
DTSTAMP:20260422T232033
CREATED:20220815T164152Z
LAST-MODIFIED:20220908T184338Z
UID:10008632-1662650100-1662655500@www.tcsatl.org
SUMMARY:Kids TV - Video & Film Production Class
DESCRIPTION:
URL:https://www.tcsatl.org/event/kids-tv-video-film-production-class-5/
END:VEVENT
BEGIN:VEVENT
DTSTART;TZID=America/New_York:20220908T160000
DTEND;TZID=America/New_York:20220908T180000
DTSTAMP:20260422T232033
CREATED:20220809T171144Z
LAST-MODIFIED:20220809T171144Z
UID:10008557-1662652800-1662660000@www.tcsatl.org
SUMMARY:MAAC Girls Volleyball Game v. Cliff Valley - Cliff Valley - 2 BUSES
DESCRIPTION:4:00 PM B-Game\n5:00 PM A -Game
URL:https://www.tcsatl.org/event/maac-girls-volleyball-game-v-cliff-valley-cliff-valley-2-buses/
LOCATION:2426 Clairmont Rd. Atlanta\, GA 30329
END:VEVENT
BEGIN:VEVENT
DTSTART;TZID=America/New_York:20220908T160000
DTEND;TZID=America/New_York:20220908T180000
DTSTAMP:20260422T232033
CREATED:20220809T171144Z
LAST-MODIFIED:20220908T175745Z
UID:10008558-1662652800-1662660000@www.tcsatl.org
SUMMARY:MAAC Girls Volleyball Game v. Cliff Valley - Cliff Valley - 2 BUSES
DESCRIPTION:4:00 PM B-Game\n5:00 PM A -Game
URL:https://www.tcsatl.org/event/maac-girls-volleyball-game-v-cliff-valley-cliff-valley-2-buses-2/
LOCATION:2426 Clairmont Rd. Atlanta\, GA 30329
END:VEVENT
BEGIN:VEVENT
DTSTART;TZID=America/New_York:20220908T161500
DTEND;TZID=America/New_York:20220908T171500
DTSTAMP:20260422T232033
CREATED:20220815T164152Z
LAST-MODIFIED:20220908T184338Z
UID:10008629-1662653700-1662657300@www.tcsatl.org
SUMMARY:Ballet/Tap Level II
DESCRIPTION:
URL:https://www.tcsatl.org/event/ballet-tap-level-ii-5/
END:VEVENT
END:VCALENDAR