BEGIN:VCALENDAR
VERSION:2.0
PRODID:-//The Children&#039;s School - ECPv6.15.15//NONSGML v1.0//EN
CALSCALE:GREGORIAN
METHOD:PUBLISH
X-WR-CALNAME:The Children&#039;s School
X-ORIGINAL-URL:https://www.tcsatl.org
X-WR-CALDESC:Events for The Children&#039;s School
REFRESH-INTERVAL;VALUE=DURATION:PT1H
X-Robots-Tag:noindex
X-PUBLISHED-TTL:PT1H
BEGIN:VTIMEZONE
TZID:America/New_York
BEGIN:DAYLIGHT
TZOFFSETFROM:-0500
TZOFFSETTO:-0400
TZNAME:EDT
DTSTART:20210314T070000
END:DAYLIGHT
BEGIN:STANDARD
TZOFFSETFROM:-0400
TZOFFSETTO:-0500
TZNAME:EST
DTSTART:20211107T060000
END:STANDARD
BEGIN:DAYLIGHT
TZOFFSETFROM:-0500
TZOFFSETTO:-0400
TZNAME:EDT
DTSTART:20220313T070000
END:DAYLIGHT
BEGIN:STANDARD
TZOFFSETFROM:-0400
TZOFFSETTO:-0500
TZNAME:EST
DTSTART:20221106T060000
END:STANDARD
BEGIN:DAYLIGHT
TZOFFSETFROM:-0500
TZOFFSETTO:-0400
TZNAME:EDT
DTSTART:20230312T070000
END:DAYLIGHT
BEGIN:STANDARD
TZOFFSETFROM:-0400
TZOFFSETTO:-0500
TZNAME:EST
DTSTART:20231105T060000
END:STANDARD
END:VTIMEZONE
BEGIN:VEVENT
DTSTART;VALUE=DATE:20220905
DTEND;VALUE=DATE:20220906
DTSTAMP:20260423T004635
CREATED:20220728T163343Z
LAST-MODIFIED:20220905T181256Z
UID:10008524-1662336000-1662422399@www.tcsatl.org
SUMMARY:Labor Day - School Closed
DESCRIPTION:
URL:https://www.tcsatl.org/event/labor-day-school-closed-2/
END:VEVENT
BEGIN:VEVENT
DTSTART;TZID=America/New_York:20220905T151500
DTEND;TZID=America/New_York:20220905T161500
DTSTAMP:20260423T004635
CREATED:20220815T164151Z
LAST-MODIFIED:20220905T182755Z
UID:10008622-1662390900-1662394500@www.tcsatl.org
SUMMARY:Bricks4Kidz
DESCRIPTION:
URL:https://www.tcsatl.org/event/bricks4kidz-5/
END:VEVENT
BEGIN:VEVENT
DTSTART;TZID=America/New_York:20220905T151500
DTEND;TZID=America/New_York:20220905T163000
DTSTAMP:20260423T004635
CREATED:20220815T164151Z
LAST-MODIFIED:20220905T182755Z
UID:10008623-1662390900-1662395400@www.tcsatl.org
SUMMARY:TCS Players
DESCRIPTION:
URL:https://www.tcsatl.org/event/tcs-players-52/
END:VEVENT
BEGIN:VEVENT
DTSTART;TZID=America/New_York:20220905T151500
DTEND;TZID=America/New_York:20220905T163000
DTSTAMP:20260423T004635
CREATED:20220815T171209Z
LAST-MODIFIED:20220905T175746Z
UID:10009221-1662390900-1662395400@www.tcsatl.org
SUMMARY:MAAC Girls Volleyball (6th - 8th)
DESCRIPTION:
URL:https://www.tcsatl.org/event/maac-girls-volleyball-6th-8th-10/
END:VEVENT
BEGIN:VEVENT
DTSTART;TZID=America/New_York:20220905T151500
DTEND;TZID=America/New_York:20220905T163000
DTSTAMP:20260423T004635
CREATED:20220815T171209Z
LAST-MODIFIED:20220905T175746Z
UID:10009223-1662390900-1662395400@www.tcsatl.org
SUMMARY:Intramural Boys & Girls Cross Country (3rd-5th)
DESCRIPTION:
URL:https://www.tcsatl.org/event/intramural-boys-girls-cross-country-3rd-5th-7/
END:VEVENT
END:VCALENDAR