BEGIN:VCALENDAR
VERSION:2.0
PRODID:-//The Children&#039;s School - ECPv6.15.15//NONSGML v1.0//EN
CALSCALE:GREGORIAN
METHOD:PUBLISH
X-ORIGINAL-URL:https://www.tcsatl.org
X-WR-CALDESC:Events for The Children&#039;s School
REFRESH-INTERVAL;VALUE=DURATION:PT1H
X-Robots-Tag:noindex
X-PUBLISHED-TTL:PT1H
BEGIN:VTIMEZONE
TZID:America/New_York
BEGIN:DAYLIGHT
TZOFFSETFROM:-0500
TZOFFSETTO:-0400
TZNAME:EDT
DTSTART:20210314T070000
END:DAYLIGHT
BEGIN:STANDARD
TZOFFSETFROM:-0400
TZOFFSETTO:-0500
TZNAME:EST
DTSTART:20211107T060000
END:STANDARD
BEGIN:DAYLIGHT
TZOFFSETFROM:-0500
TZOFFSETTO:-0400
TZNAME:EDT
DTSTART:20220313T070000
END:DAYLIGHT
BEGIN:STANDARD
TZOFFSETFROM:-0400
TZOFFSETTO:-0500
TZNAME:EST
DTSTART:20221106T060000
END:STANDARD
BEGIN:DAYLIGHT
TZOFFSETFROM:-0500
TZOFFSETTO:-0400
TZNAME:EDT
DTSTART:20230312T070000
END:DAYLIGHT
BEGIN:STANDARD
TZOFFSETFROM:-0400
TZOFFSETTO:-0500
TZNAME:EST
DTSTART:20231105T060000
END:STANDARD
END:VTIMEZONE
BEGIN:VEVENT
DTSTART;TZID=America/New_York:20220826T151500
DTEND;TZID=America/New_York:20220826T161500
DTSTAMP:20260423T004922
CREATED:20220815T164150Z
LAST-MODIFIED:20220826T174316Z
UID:10008613-1661526900-1661530500@www.tcsatl.org
SUMMARY:Amazing Athletes
DESCRIPTION:
URL:https://www.tcsatl.org/event/amazing-athletes-26/
END:VEVENT
BEGIN:VEVENT
DTSTART;TZID=America/New_York:20220826T151500
DTEND;TZID=America/New_York:20220826T163000
DTSTAMP:20260423T004922
CREATED:20220815T171207Z
LAST-MODIFIED:20220826T172756Z
UID:10009172-1661526900-1661531400@www.tcsatl.org
SUMMARY:MAAC Girls Volleyball (6th - 8th)
DESCRIPTION:
URL:https://www.tcsatl.org/event/maac-girls-volleyball-6th-8th-6/
END:VEVENT
BEGIN:VEVENT
DTSTART;TZID=America/New_York:20220826T151500
DTEND;TZID=America/New_York:20220826T163000
DTSTAMP:20260423T004922
CREATED:20220815T171207Z
LAST-MODIFIED:20220826T172755Z
UID:10009173-1661526900-1661531400@www.tcsatl.org
SUMMARY:MAAC Boys & Girls Cross Country (6th-8th)
DESCRIPTION:
URL:https://www.tcsatl.org/event/maac-boys-girls-cross-country-6th-8th-6/
END:VEVENT
BEGIN:VEVENT
DTSTART;TZID=America/New_York:20220826T161500
DTEND;TZID=America/New_York:20220826T171500
DTSTAMP:20260423T004922
CREATED:20220815T164150Z
LAST-MODIFIED:20220826T174316Z
UID:10008612-1661530500-1661534100@www.tcsatl.org
SUMMARY:Intro to Ballet/Tap
DESCRIPTION:
URL:https://www.tcsatl.org/event/intro-to-ballet-tap-2/
END:VEVENT
END:VCALENDAR