BEGIN:VCALENDAR
VERSION:2.0
PRODID:-//The Children&#039;s School - ECPv6.15.15//NONSGML v1.0//EN
CALSCALE:GREGORIAN
METHOD:PUBLISH
X-ORIGINAL-URL:https://www.tcsatl.org
X-WR-CALDESC:Events for The Children&#039;s School
REFRESH-INTERVAL;VALUE=DURATION:PT1H
X-Robots-Tag:noindex
X-PUBLISHED-TTL:PT1H
BEGIN:VTIMEZONE
TZID:America/New_York
BEGIN:DAYLIGHT
TZOFFSETFROM:-0500
TZOFFSETTO:-0400
TZNAME:EDT
DTSTART:20210314T070000
END:DAYLIGHT
BEGIN:STANDARD
TZOFFSETFROM:-0400
TZOFFSETTO:-0500
TZNAME:EST
DTSTART:20211107T060000
END:STANDARD
BEGIN:DAYLIGHT
TZOFFSETFROM:-0500
TZOFFSETTO:-0400
TZNAME:EDT
DTSTART:20220313T070000
END:DAYLIGHT
BEGIN:STANDARD
TZOFFSETFROM:-0400
TZOFFSETTO:-0500
TZNAME:EST
DTSTART:20221106T060000
END:STANDARD
BEGIN:DAYLIGHT
TZOFFSETFROM:-0500
TZOFFSETTO:-0400
TZNAME:EDT
DTSTART:20230312T070000
END:DAYLIGHT
BEGIN:STANDARD
TZOFFSETFROM:-0400
TZOFFSETTO:-0500
TZNAME:EST
DTSTART:20231105T060000
END:STANDARD
END:VTIMEZONE
BEGIN:VEVENT
DTSTART;TZID=America/New_York:20220825T151500
DTEND;TZID=America/New_York:20220825T161500
DTSTAMP:20260423T004825
CREATED:20220815T164150Z
LAST-MODIFIED:20220825T174353Z
UID:10008611-1661440500-1661444100@www.tcsatl.org
SUMMARY:Gymnastics Level II
DESCRIPTION:
URL:https://www.tcsatl.org/event/gymnastics-level-ii-3/
END:VEVENT
BEGIN:VEVENT
DTSTART;TZID=America/New_York:20220825T151500
DTEND;TZID=America/New_York:20220825T163000
DTSTAMP:20260423T004825
CREATED:20220815T171207Z
LAST-MODIFIED:20220825T172819Z
UID:10009166-1661440500-1661445000@www.tcsatl.org
SUMMARY:MAAC Girls Volleyball (6th - 8th)
DESCRIPTION:
URL:https://www.tcsatl.org/event/maac-girls-volleyball-6th-8th-5/
END:VEVENT
BEGIN:VEVENT
DTSTART;TZID=America/New_York:20220825T151500
DTEND;TZID=America/New_York:20220825T163000
DTSTAMP:20260423T004825
CREATED:20220815T171207Z
LAST-MODIFIED:20220825T172818Z
UID:10009170-1661440500-1661445000@www.tcsatl.org
SUMMARY:Intramural Boys & Girls Cross Country (3rd-5th)
DESCRIPTION:
URL:https://www.tcsatl.org/event/intramural-boys-girls-cross-country-3rd-5th-4/
END:VEVENT
BEGIN:VEVENT
DTSTART;TZID=America/New_York:20220825T151500
DTEND;TZID=America/New_York:20220825T164500
DTSTAMP:20260423T004825
CREATED:20220815T164149Z
LAST-MODIFIED:20220825T174353Z
UID:10008609-1661440500-1661445900@www.tcsatl.org
SUMMARY:Kids TV - Video & Film Production Class
DESCRIPTION:
URL:https://www.tcsatl.org/event/kids-tv-video-film-production-class-3/
END:VEVENT
BEGIN:VEVENT
DTSTART;TZID=America/New_York:20220825T161500
DTEND;TZID=America/New_York:20220825T171500
DTSTAMP:20260423T004825
CREATED:20220815T164150Z
LAST-MODIFIED:20220825T174353Z
UID:10008610-1661444100-1661447700@www.tcsatl.org
SUMMARY:Ballet/Tap Level II
DESCRIPTION:
URL:https://www.tcsatl.org/event/ballet-tap-level-ii-3/
END:VEVENT
END:VCALENDAR