BEGIN:VCALENDAR
VERSION:2.0
PRODID:-//The Children&#039;s School - ECPv6.15.15//NONSGML v1.0//EN
CALSCALE:GREGORIAN
METHOD:PUBLISH
X-ORIGINAL-URL:https://www.tcsatl.org
X-WR-CALDESC:Events for The Children&#039;s School
REFRESH-INTERVAL;VALUE=DURATION:PT1H
X-Robots-Tag:noindex
X-PUBLISHED-TTL:PT1H
BEGIN:VTIMEZONE
TZID:America/New_York
BEGIN:DAYLIGHT
TZOFFSETFROM:-0500
TZOFFSETTO:-0400
TZNAME:EDT
DTSTART:20210314T070000
END:DAYLIGHT
BEGIN:STANDARD
TZOFFSETFROM:-0400
TZOFFSETTO:-0500
TZNAME:EST
DTSTART:20211107T060000
END:STANDARD
BEGIN:DAYLIGHT
TZOFFSETFROM:-0500
TZOFFSETTO:-0400
TZNAME:EDT
DTSTART:20220313T070000
END:DAYLIGHT
BEGIN:STANDARD
TZOFFSETFROM:-0400
TZOFFSETTO:-0500
TZNAME:EST
DTSTART:20221106T060000
END:STANDARD
BEGIN:DAYLIGHT
TZOFFSETFROM:-0500
TZOFFSETTO:-0400
TZNAME:EDT
DTSTART:20230312T070000
END:DAYLIGHT
BEGIN:STANDARD
TZOFFSETFROM:-0400
TZOFFSETTO:-0500
TZNAME:EST
DTSTART:20231105T060000
END:STANDARD
END:VTIMEZONE
BEGIN:VEVENT
DTSTART;TZID=America/New_York:20220824T074500
DTEND;TZID=America/New_York:20220824T090000
DTSTAMP:20260423T004826
CREATED:20220815T171206Z
LAST-MODIFIED:20220823T172800Z
UID:10009157-1661327100-1661331600@www.tcsatl.org
SUMMARY:Intramural Co-Ed Volleyball (3rd - 5th)
DESCRIPTION:
URL:https://www.tcsatl.org/event/intramural-co-ed-volleyball-3rd-5th-4/
END:VEVENT
BEGIN:VEVENT
DTSTART;TZID=America/New_York:20220824T151500
DTEND;TZID=America/New_York:20220824T163000
DTSTAMP:20260423T004826
CREATED:20220815T171206Z
LAST-MODIFIED:20220824T172848Z
UID:10009159-1661354100-1661358600@www.tcsatl.org
SUMMARY:Intramural Co-Ed Tennis (3rd-5th)
DESCRIPTION:
URL:https://www.tcsatl.org/event/intramural-co-ed-tennis-3rd-5th-4/
END:VEVENT
BEGIN:VEVENT
DTSTART;TZID=America/New_York:20220824T151500
DTEND;TZID=America/New_York:20220824T163000
DTSTAMP:20260423T004826
CREATED:20220815T171206Z
LAST-MODIFIED:20220824T172848Z
UID:10009162-1661354100-1661358600@www.tcsatl.org
SUMMARY:MAAC Boys & Girls Cross Country (6th-8th)
DESCRIPTION:
URL:https://www.tcsatl.org/event/maac-boys-girls-cross-country-6th-8th-5/
END:VEVENT
END:VCALENDAR