BEGIN:VCALENDAR
VERSION:2.0
PRODID:-//The Children&#039;s School - ECPv6.15.15//NONSGML v1.0//EN
CALSCALE:GREGORIAN
METHOD:PUBLISH
X-WR-CALNAME:The Children&#039;s School
X-ORIGINAL-URL:https://www.tcsatl.org
X-WR-CALDESC:Events for The Children&#039;s School
REFRESH-INTERVAL;VALUE=DURATION:PT1H
X-Robots-Tag:noindex
X-PUBLISHED-TTL:PT1H
BEGIN:VTIMEZONE
TZID:America/New_York
BEGIN:DAYLIGHT
TZOFFSETFROM:-0500
TZOFFSETTO:-0400
TZNAME:EDT
DTSTART:20210314T070000
END:DAYLIGHT
BEGIN:STANDARD
TZOFFSETFROM:-0400
TZOFFSETTO:-0500
TZNAME:EST
DTSTART:20211107T060000
END:STANDARD
BEGIN:DAYLIGHT
TZOFFSETFROM:-0500
TZOFFSETTO:-0400
TZNAME:EDT
DTSTART:20220313T070000
END:DAYLIGHT
BEGIN:STANDARD
TZOFFSETFROM:-0400
TZOFFSETTO:-0500
TZNAME:EST
DTSTART:20221106T060000
END:STANDARD
BEGIN:DAYLIGHT
TZOFFSETFROM:-0500
TZOFFSETTO:-0400
TZNAME:EDT
DTSTART:20230312T070000
END:DAYLIGHT
BEGIN:STANDARD
TZOFFSETFROM:-0400
TZOFFSETTO:-0500
TZNAME:EST
DTSTART:20231105T060000
END:STANDARD
END:VTIMEZONE
BEGIN:VEVENT
DTSTART;TZID=America/New_York:20220815T151500
DTEND;TZID=America/New_York:20220815T161500
DTSTAMP:20260422T231949
CREATED:20220815T164147Z
LAST-MODIFIED:20220815T164147Z
UID:10008587-1660576500-1660580100@www.tcsatl.org
SUMMARY:Bricks4Kidz
DESCRIPTION:
URL:https://www.tcsatl.org/event/bricks4kidz/
END:VEVENT
BEGIN:VEVENT
DTSTART;TZID=America/New_York:20220815T151500
DTEND;TZID=America/New_York:20220815T161500
DTSTAMP:20260422T231949
CREATED:20220815T164148Z
LAST-MODIFIED:20220815T164148Z
UID:10008588-1660576500-1660580100@www.tcsatl.org
SUMMARY:Bricks4Kidz
DESCRIPTION:
URL:https://www.tcsatl.org/event/bricks4kidz-2/
END:VEVENT
BEGIN:VEVENT
DTSTART;TZID=America/New_York:20220815T151500
DTEND;TZID=America/New_York:20220815T163000
DTSTAMP:20260422T231949
CREATED:20220815T171154Z
LAST-MODIFIED:20220815T171204Z
UID:10009097-1660576500-1660581000@www.tcsatl.org
SUMMARY:MAAC Girls Volleyball (6th - 8th)
DESCRIPTION:
URL:https://www.tcsatl.org/event/maac-girls-volleyball-6th-8th/
END:VEVENT
BEGIN:VEVENT
DTSTART;TZID=America/New_York:20220815T151500
DTEND;TZID=America/New_York:20220815T163000
DTSTAMP:20260422T231949
CREATED:20220815T171155Z
LAST-MODIFIED:20220815T171204Z
UID:10009099-1660576500-1660581000@www.tcsatl.org
SUMMARY:Intramural Boys & Girls Cross Country (3rd-5th)
DESCRIPTION:
URL:https://www.tcsatl.org/event/intramural-boys-girls-cross-country-3rd-5th/
END:VEVENT
END:VCALENDAR