BEGIN:VCALENDAR
VERSION:2.0
PRODID:-//The Children&#039;s School - ECPv6.15.15//NONSGML v1.0//EN
CALSCALE:GREGORIAN
METHOD:PUBLISH
X-WR-CALNAME:The Children&#039;s School
X-ORIGINAL-URL:https://www.tcsatl.org
X-WR-CALDESC:Events for The Children&#039;s School
REFRESH-INTERVAL;VALUE=DURATION:PT1H
X-Robots-Tag:noindex
X-PUBLISHED-TTL:PT1H
BEGIN:VTIMEZONE
TZID:America/New_York
BEGIN:DAYLIGHT
TZOFFSETFROM:-0500
TZOFFSETTO:-0400
TZNAME:EDT
DTSTART:20210314T070000
END:DAYLIGHT
BEGIN:STANDARD
TZOFFSETFROM:-0400
TZOFFSETTO:-0500
TZNAME:EST
DTSTART:20211107T060000
END:STANDARD
BEGIN:DAYLIGHT
TZOFFSETFROM:-0500
TZOFFSETTO:-0400
TZNAME:EDT
DTSTART:20220313T070000
END:DAYLIGHT
BEGIN:STANDARD
TZOFFSETFROM:-0400
TZOFFSETTO:-0500
TZNAME:EST
DTSTART:20221106T060000
END:STANDARD
BEGIN:DAYLIGHT
TZOFFSETFROM:-0500
TZOFFSETTO:-0400
TZNAME:EDT
DTSTART:20230312T070000
END:DAYLIGHT
BEGIN:STANDARD
TZOFFSETFROM:-0400
TZOFFSETTO:-0500
TZNAME:EST
DTSTART:20231105T060000
END:STANDARD
END:VTIMEZONE
BEGIN:VEVENT
DTSTART;TZID=America/New_York:20220110T151500
DTEND;TZID=America/New_York:20220110T163000
DTSTAMP:20260423T111614
CREATED:20211110T193647Z
LAST-MODIFIED:20220110T005622Z
UID:10008490-1641827700-1641832200@www.tcsatl.org
SUMMARY:Intramural Volleyball (Grades 3-8)
DESCRIPTION:
URL:https://www.tcsatl.org/event/intramural-volleyball-grades-3-8-9/
END:VEVENT
BEGIN:VEVENT
DTSTART;TZID=America/New_York:20220110T151500
DTEND;TZID=America/New_York:20220110T163000
DTSTAMP:20260423T111614
CREATED:20211110T193647Z
LAST-MODIFIED:20220110T005622Z
UID:10008491-1641827700-1641832200@www.tcsatl.org
SUMMARY:Intramural Ultimate Frisbee (Grades 6-8)
DESCRIPTION:
URL:https://www.tcsatl.org/event/intramural-ultimate-frisbee-grades-6-8-9/
END:VEVENT
BEGIN:VEVENT
DTSTART;TZID=America/New_York:20220110T151500
DTEND;TZID=America/New_York:20220110T163000
DTSTAMP:20260423T111614
CREATED:20211110T193647Z
LAST-MODIFIED:20220110T005622Z
UID:10008492-1641827700-1641832200@www.tcsatl.org
SUMMARY:Intramural Ultimate Frisbee (Grade 3-5)
DESCRIPTION:
URL:https://www.tcsatl.org/event/intramural-ultimate-frisbee-grade-3-5-18/
END:VEVENT
BEGIN:VEVENT
DTSTART;TZID=America/New_York:20220110T151500
DTEND;TZID=America/New_York:20220110T163000
DTSTAMP:20260423T111614
CREATED:20211110T193647Z
LAST-MODIFIED:20220110T005622Z
UID:10008493-1641827700-1641832200@www.tcsatl.org
SUMMARY:Intramural Cross Country/Track (Grades 3-8)
DESCRIPTION:
URL:https://www.tcsatl.org/event/intramural-cross-country-track-grades-3-8-18/
END:VEVENT
END:VCALENDAR