BEGIN:VCALENDAR
VERSION:2.0
PRODID:-//The Children&#039;s School - ECPv6.15.15//NONSGML v1.0//EN
CALSCALE:GREGORIAN
METHOD:PUBLISH
X-ORIGINAL-URL:https://www.tcsatl.org
X-WR-CALDESC:Events for The Children&#039;s School
REFRESH-INTERVAL;VALUE=DURATION:PT1H
X-Robots-Tag:noindex
X-PUBLISHED-TTL:PT1H
BEGIN:VTIMEZONE
TZID:America/New_York
BEGIN:DAYLIGHT
TZOFFSETFROM:-0500
TZOFFSETTO:-0400
TZNAME:EDT
DTSTART:20200308T070000
END:DAYLIGHT
BEGIN:STANDARD
TZOFFSETFROM:-0400
TZOFFSETTO:-0500
TZNAME:EST
DTSTART:20201101T060000
END:STANDARD
BEGIN:DAYLIGHT
TZOFFSETFROM:-0500
TZOFFSETTO:-0400
TZNAME:EDT
DTSTART:20210314T070000
END:DAYLIGHT
BEGIN:STANDARD
TZOFFSETFROM:-0400
TZOFFSETTO:-0500
TZNAME:EST
DTSTART:20211107T060000
END:STANDARD
BEGIN:DAYLIGHT
TZOFFSETFROM:-0500
TZOFFSETTO:-0400
TZNAME:EDT
DTSTART:20220313T070000
END:DAYLIGHT
BEGIN:STANDARD
TZOFFSETFROM:-0400
TZOFFSETTO:-0500
TZNAME:EST
DTSTART:20221106T060000
END:STANDARD
END:VTIMEZONE
BEGIN:VEVENT
DTSTART;VALUE=DATE:20211227
DTEND;VALUE=DATE:20220101
DTSTAMP:20260423T111501
CREATED:20211110T193412Z
LAST-MODIFIED:20211231T004300Z
UID:10008410-1640563200-1640995199@www.tcsatl.org
SUMMARY:Winter Break
DESCRIPTION:
URL:https://www.tcsatl.org/event/winter-break-3/
END:VEVENT
BEGIN:VEVENT
DTSTART;TZID=America/New_York:20211227T151500
DTEND;TZID=America/New_York:20211227T163000
DTSTAMP:20260423T111501
CREATED:20211110T193645Z
LAST-MODIFIED:20211226T234712Z
UID:10008474-1640618100-1640622600@www.tcsatl.org
SUMMARY:Intramural Volleyball (Grades 3-8)
DESCRIPTION:
URL:https://www.tcsatl.org/event/intramural-volleyball-grades-3-8-7/
END:VEVENT
BEGIN:VEVENT
DTSTART;TZID=America/New_York:20211227T151500
DTEND;TZID=America/New_York:20211227T163000
DTSTAMP:20260423T111501
CREATED:20211110T193645Z
LAST-MODIFIED:20211226T234712Z
UID:10008475-1640618100-1640622600@www.tcsatl.org
SUMMARY:Intramural Ultimate Frisbee (Grade 3-5)
DESCRIPTION:
URL:https://www.tcsatl.org/event/intramural-ultimate-frisbee-grade-3-5-14/
END:VEVENT
BEGIN:VEVENT
DTSTART;TZID=America/New_York:20211227T151500
DTEND;TZID=America/New_York:20211227T163000
DTSTAMP:20260423T111501
CREATED:20211110T193645Z
LAST-MODIFIED:20211226T234712Z
UID:10008476-1640618100-1640622600@www.tcsatl.org
SUMMARY:Intramural Cross Country/Track (Grades 3-8)
DESCRIPTION:
URL:https://www.tcsatl.org/event/intramural-cross-country-track-grades-3-8-14/
END:VEVENT
BEGIN:VEVENT
DTSTART;TZID=America/New_York:20211227T151500
DTEND;TZID=America/New_York:20211227T163000
DTSTAMP:20260423T111501
CREATED:20211110T193645Z
LAST-MODIFIED:20211226T234712Z
UID:10008477-1640618100-1640622600@www.tcsatl.org
SUMMARY:Intramural Ultimate Frisbee (Grades 6-8)
DESCRIPTION:
URL:https://www.tcsatl.org/event/intramural-ultimate-frisbee-grades-6-8-7/
END:VEVENT
END:VCALENDAR