BEGIN:VCALENDAR
VERSION:2.0
PRODID:-//The Children&#039;s School - ECPv6.15.15//NONSGML v1.0//EN
CALSCALE:GREGORIAN
METHOD:PUBLISH
X-ORIGINAL-URL:https://www.tcsatl.org
X-WR-CALDESC:Events for The Children&#039;s School
REFRESH-INTERVAL;VALUE=DURATION:PT1H
X-Robots-Tag:noindex
X-PUBLISHED-TTL:PT1H
BEGIN:VTIMEZONE
TZID:America/New_York
BEGIN:DAYLIGHT
TZOFFSETFROM:-0500
TZOFFSETTO:-0400
TZNAME:EDT
DTSTART:20200308T070000
END:DAYLIGHT
BEGIN:STANDARD
TZOFFSETFROM:-0400
TZOFFSETTO:-0500
TZNAME:EST
DTSTART:20201101T060000
END:STANDARD
BEGIN:DAYLIGHT
TZOFFSETFROM:-0500
TZOFFSETTO:-0400
TZNAME:EDT
DTSTART:20210314T070000
END:DAYLIGHT
BEGIN:STANDARD
TZOFFSETFROM:-0400
TZOFFSETTO:-0500
TZNAME:EST
DTSTART:20211107T060000
END:STANDARD
BEGIN:DAYLIGHT
TZOFFSETFROM:-0500
TZOFFSETTO:-0400
TZNAME:EDT
DTSTART:20220313T070000
END:DAYLIGHT
BEGIN:STANDARD
TZOFFSETFROM:-0400
TZOFFSETTO:-0500
TZNAME:EST
DTSTART:20221106T060000
END:STANDARD
END:VTIMEZONE
BEGIN:VEVENT
DTSTART;VALUE=DATE:20211129
DTEND;VALUE=DATE:20211130
DTSTAMP:20260423T153244
CREATED:20211110T193411Z
LAST-MODIFIED:20211129T214240Z
UID:10008407-1638144000-1638230399@www.tcsatl.org
SUMMARY:Students Return from Thanksgiving Break
DESCRIPTION:
URL:https://www.tcsatl.org/event/students-return-from-thanksgiving-break-2/
END:VEVENT
BEGIN:VEVENT
DTSTART;TZID=America/New_York:20211129T151500
DTEND;TZID=America/New_York:20211129T163000
DTSTAMP:20260423T153244
CREATED:20211110T193641Z
LAST-MODIFIED:20211129T211232Z
UID:10008442-1638198900-1638203400@www.tcsatl.org
SUMMARY:Intramural Ultimate Frisbee (Grades 6-8)
DESCRIPTION:
URL:https://www.tcsatl.org/event/intramural-ultimate-frisbee-grades-6-8-3/
END:VEVENT
BEGIN:VEVENT
DTSTART;TZID=America/New_York:20211129T151500
DTEND;TZID=America/New_York:20211129T163000
DTSTAMP:20260423T153244
CREATED:20211110T193641Z
LAST-MODIFIED:20211129T211232Z
UID:10008443-1638198900-1638203400@www.tcsatl.org
SUMMARY:Intramural Volleyball (Grades 3-8)
DESCRIPTION:
URL:https://www.tcsatl.org/event/intramural-volleyball-grades-3-8-3/
END:VEVENT
BEGIN:VEVENT
DTSTART;TZID=America/New_York:20211129T151500
DTEND;TZID=America/New_York:20211129T163000
DTSTAMP:20260423T153244
CREATED:20211110T193641Z
LAST-MODIFIED:20211129T211232Z
UID:10008444-1638198900-1638203400@www.tcsatl.org
SUMMARY:Intramural Ultimate Frisbee (Grade 3-5)
DESCRIPTION:
URL:https://www.tcsatl.org/event/intramural-ultimate-frisbee-grade-3-5-6/
END:VEVENT
BEGIN:VEVENT
DTSTART;TZID=America/New_York:20211129T151500
DTEND;TZID=America/New_York:20211129T163000
DTSTAMP:20260423T153244
CREATED:20211110T193641Z
LAST-MODIFIED:20211129T211232Z
UID:10008445-1638198900-1638203400@www.tcsatl.org
SUMMARY:Intramural Cross Country/Track (Grades 3-8)
DESCRIPTION:
URL:https://www.tcsatl.org/event/intramural-cross-country-track-grades-3-8-6/
END:VEVENT
END:VCALENDAR